BEGIN:VCALENDAR
VERSION:2.0
PRODID:-//ChamberMaster//Event Calendar 2.0//EN
METHOD:PUBLISH
X-PUBLISHED-TTL:P3D
REFRESH-INTERVAL:P3D
CALSCALE:GREGORIAN
BEGIN:VEVENT
DTSTART:20231018T190000Z
DTEND:20231018T203000Z
X-MICROSOFT-CDO-ALLDAYEVENT:FALSE
SUMMARY:CHAMBER: New Member Orientation & Refresher
DESCRIPTION:Wednesday\, October 18\, 2023\n\n3:00 pm to 4:30 pm\n\nChamber Office\n\n501 South Main Street\, Mount Vernon\, Ohio \n\n \n\nWhat will be covered?\n\n \n\n\n	\n	Benefits Included With Your Membership\n	\n	\n	Managing Your Profile\n	\n	\n	Introduce Your Business\n	\n	\n	Adding Your Events\, Job Postings\, Hot Deals\, and more\n	\n	\n	Advertising\n	\n	\n	Events\, Programs\, and Trainings\n	\n	\n	Resources!\n	\n\n\n \n\nWho Should Attend?\n\nNew members should attend! This is your orientation.\n\nExisting members may also attend. It's a great refresher or to orient a new employee.\n\n \n\n \n\nThese will be held quarterly. This orientation will help explain what your membership is all about and answer any questions you might have. This is an interactive session where you will meet other members.\n\n \n\nBe sure to bring plenty of business cards to disperse to other attendees.\n\n \n\nLight refreshments and snacks will be provided. \n\n \n\nDeadline to register is Monday\, October 16\, 2023. \n\nPlease register so we have an accurate headcount for seating and materials.
X-ALT-DESC;FMTTYPE=text/html:<div style="color: rgb(68\, 68\, 68)\; font-family: Calibri\, Helvetica\, Arial\, sans-serif\; font-size: 14px\; white-space-collapse: preserve\; background-color: rgb(255\, 255\, 255)\; text-align: center\;"><span style="font-weight: bold\; font-size: 18px\; color: rgb(166\, 0\, 0)\;">Wednesday\, October 18\, 2023</span></div>\n\n<div style="color: rgb(68\, 68\, 68)\; font-family: Calibri\, Helvetica\, Arial\, sans-serif\; font-size: 14px\; white-space-collapse: preserve\; background-color: rgb(255\, 255\, 255)\; text-align: center\;"><span style="font-size: 16px\; color: rgb(0\, 0\, 0)\; font-weight: bold\;">3:00 pm to 4:30 pm</span></div>\n\n<div style="color: rgb(68\, 68\, 68)\; font-family: Calibri\, Helvetica\, Arial\, sans-serif\; font-size: 14px\; white-space-collapse: preserve\; background-color: rgb(255\, 255\, 255)\; text-align: center\;"><span style="font-size: 16px\; color: rgb(0\, 0\, 0)\; font-weight: bold\;">Chamber Office</span></div>\n\n<div style="color: rgb(68\, 68\, 68)\; font-family: Calibri\, Helvetica\, Arial\, sans-serif\; font-size: 14px\; white-space-collapse: preserve\; background-color: rgb(255\, 255\, 255)\; text-align: center\;"><span style="font-size: 16px\; color: rgb(0\, 0\, 0)\; font-weight: bold\;">501 South Main Street\, Mount Vernon\, Ohio </span></div>\n\n<div style="color: rgb(68\, 68\, 68)\; font-family: Calibri\, Helvetica\, Arial\, sans-serif\; font-size: 14px\; white-space-collapse: preserve\; background-color: rgb(255\, 255\, 255)\; text-align: center\;">&nbsp\;</div>\n\n<div style="color: rgb(68\, 68\, 68)\; font-family: Calibri\, Helvetica\, Arial\, sans-serif\; font-size: 14px\; white-space-collapse: preserve\; background-color: rgb(255\, 255\, 255)\;"><span style="color: rgb(0\, 0\, 0)\; font-weight: bold\; font-size: 18px\;">What will be covered?</span></div>\n\n<div style="color: rgb(68\, 68\, 68)\; font-family: Calibri\, Helvetica\, Arial\, sans-serif\; font-size: 14px\; white-space-collapse: preserve\; background-color: rgb(255\, 255\, 255)\; text-align: center\;">&nbsp\;</div>\n\n<ul style="list-style-type:square\;">\n	<li style="padding: 0px\; margin: 0px\; line-height: 1.2\; color: rgb(166\, 0\, 0)\;">\n	<h4><span style="font-size:16px\;">Benefits Included With Your Membership</span></h4>\n	</li>\n	<li style="padding: 0px\; margin: 0px\; line-height: 1.2\; color: rgb(166\, 0\, 0)\;">\n	<h4><span style="font-size:16px\;">Managing Your Profile</span></h4>\n	</li>\n	<li style="padding: 0px\; margin: 0px\; line-height: 1.2\; color: rgb(166\, 0\, 0)\;">\n	<h4><span style="font-size:16px\;">Introduce Your Business</span></h4>\n	</li>\n	<li style="padding: 0px\; margin: 0px\; line-height: 1.2\; color: rgb(166\, 0\, 0)\;">\n	<h4><span style="font-size:16px\;">Adding Your Events\, Job Postings\, Hot Deals\, and more</span></h4>\n	</li>\n	<li style="padding: 0px\; margin: 0px\; line-height: 1.2\; color: rgb(166\, 0\, 0)\;">\n	<h4><span style="font-size:16px\;">Advertising</span></h4>\n	</li>\n	<li style="padding: 0px\; margin: 0px\; line-height: 1.2\; color: rgb(166\, 0\, 0)\;">\n	<h4><span style="font-size:16px\;">Events\, Programs\, and Trainings</span></h4>\n	</li>\n	<li style="padding: 0px\; margin: 0px\; line-height: 1.2\; color: rgb(166\, 0\, 0)\;">\n	<h4><span style="font-size:16px\;">Resources!</span></h4>\n	</li>\n</ul>\n\n<div style="color: rgb(68\, 68\, 68)\; font-family: Calibri\, Helvetica\, Arial\, sans-serif\; font-size: 14px\; white-space-collapse: preserve\; background-color: rgb(255\, 255\, 255)\;">&nbsp\;</div>\n\n<div style="color: rgb(68\, 68\, 68)\; font-family: Calibri\, Helvetica\, Arial\, sans-serif\; font-size: 14px\; white-space-collapse: preserve\; background-color: rgb(255\, 255\, 255)\; text-align: center\;"><span style="color: rgb(0\, 0\, 0)\; font-weight: bold\; font-size: 18px\;">Who Should Attend?</span></div>\n\n<div style="color: rgb(68\, 68\, 68)\; font-family: Calibri\, Helvetica\, Arial\, sans-serif\; font-size: 14px\; white-space-collapse: preserve\; background-color: rgb(255\, 255\, 255)\; text-align: center\;"><span style="color: rgb(166\, 0\, 0)\; font-weight: bold\;">New members should attend! This is your orientation.</span></div>\n\n<div style="color: rgb(68\, 68\, 68)\; font-family: Calibri\, Helvetica\, Arial\, sans-serif\; font-size: 14px\; white-space-collapse: preserve\; background-color: rgb(255\, 255\, 255)\; text-align: center\;"><span style="color: rgb(166\, 0\, 0)\; font-weight: bold\;">Existing members may also attend. It&#39\;s a great refresher or to orient a new employee.</span></div>\n\n<div style="color: rgb(68\, 68\, 68)\; font-family: Calibri\, Helvetica\, Arial\, sans-serif\; font-size: 14px\; white-space-collapse: preserve\; background-color: rgb(255\, 255\, 255)\; text-align: center\;">&nbsp\;</div>\n\n<div style="color: rgb(68\, 68\, 68)\; font-family: Calibri\, Helvetica\, Arial\, sans-serif\; font-size: 14px\; white-space-collapse: preserve\; background-color: rgb(255\, 255\, 255)\; text-align: center\;">&nbsp\;</div>\n\n<div style="color: rgb(68\, 68\, 68)\; font-family: Calibri\, Helvetica\, Arial\, sans-serif\; font-size: 14px\; white-space-collapse: preserve\; background-color: rgb(255\, 255\, 255)\; text-align: center\;"><span style="color: rgb(0\, 0\, 0)\;">These will be held quarterly. This orientation will help explain what your membership is all about and answer any questions you might have. This is an interactive session where you will meet other members.</span></div>\n\n<div style="color: rgb(68\, 68\, 68)\; font-family: Calibri\, Helvetica\, Arial\, sans-serif\; font-size: 14px\; white-space-collapse: preserve\; background-color: rgb(255\, 255\, 255)\; text-align: center\;">&nbsp\;</div>\n\n<div style="color: rgb(68\, 68\, 68)\; font-family: Calibri\, Helvetica\, Arial\, sans-serif\; font-size: 14px\; white-space-collapse: preserve\; background-color: rgb(255\, 255\, 255)\; text-align: center\;"><span style="color: rgb(0\, 0\, 0)\;">Be sure to bring plenty of business cards to disperse to other attendees.</span></div>\n\n<div style="color: rgb(68\, 68\, 68)\; font-family: Calibri\, Helvetica\, Arial\, sans-serif\; font-size: 14px\; white-space-collapse: preserve\; background-color: rgb(255\, 255\, 255)\; text-align: center\;">&nbsp\;</div>\n\n<div style="color: rgb(68\, 68\, 68)\; font-family: Calibri\, Helvetica\, Arial\, sans-serif\; font-size: 14px\; white-space-collapse: preserve\; background-color: rgb(255\, 255\, 255)\; text-align: center\;"><span style="color: rgb(0\, 0\, 0)\;">Light refreshments and snacks will be provided. </span></div>\n\n<div style="color: rgb(68\, 68\, 68)\; font-family: Calibri\, Helvetica\, Arial\, sans-serif\; font-size: 14px\; white-space-collapse: preserve\; background-color: rgb(255\, 255\, 255)\; text-align: center\;"><span style="color: rgb(0\, 0\, 0)\;">&#65279\;</span></div>\n\n<div style="color: rgb(68\, 68\, 68)\; font-family: Calibri\, Helvetica\, Arial\, sans-serif\; font-size: 14px\; white-space-collapse: preserve\; background-color: rgb(255\, 255\, 255)\; text-align: center\;"><span style="color: rgb(200\, 13\, 13)\; font-weight: bold\;">Deadline to register is Monday\, October 16\, 2023. </span></div>\n\n<div style="color: rgb(68\, 68\, 68)\; font-family: Calibri\, Helvetica\, Arial\, sans-serif\; font-size: 14px\; white-space-collapse: preserve\; background-color: rgb(255\, 255\, 255)\; text-align: center\;"><span style="color: rgb(200\, 13\, 13)\; font-weight: bold\;">Please register so we have an accurate headcount for seating and materials.</span></div>\n
LOCATION:Chamber of Commerce office 501 South Main Street\, Mount Vernon
UID:e.2893.8577
SEQUENCE:3
DTSTAMP:20260421T091353Z
URL:http://knoxchamber.smartcms.site/events/details/chamber-new-member-orientation-refresher-8577
END:VEVENT

END:VCALENDAR
