BEGIN:VCALENDAR
VERSION:2.0
PRODID:-//ChamberMaster//Event Calendar 2.0//EN
METHOD:PUBLISH
X-PUBLISHED-TTL:P3D
REFRESH-INTERVAL:P3D
CALSCALE:GREGORIAN
BEGIN:VEVENT
DTSTART:20210930T203000Z
DTEND:20210930T220000Z
X-MICROSOFT-CDO-ALLDAYEVENT:FALSE
SUMMARY:Chamber Mixer
DESCRIPTION:Please join us in September for our Chamber Mixer sponsored by The Ohio Eastern Star Home. It will be nice to be back in person and to socialize with other Chamber members. \n\nThere will be Appetizers\, Refreshments and Music!\n\n\n\nRSVP by September 20th\,    Members are free and non-members are $15.00
X-ALT-DESC;FMTTYPE=text/html:Please join us in September for our Chamber Mixer sponsored by The Ohio Eastern Star Home. It will be nice to be back in person and to socialize with other Chamber members.&nbsp\;<br />\nThere will be Appetizers\, Refreshments and Music!<br />\n<br />\n<span style="color:#800000\;">RSVP by September 20th</span>\,&nbsp\; &nbsp\; Members are free and non-members are $15.00<br />\n&nbsp\;
LOCATION:Knox County Chamber of Commerce 501 South Main Street\, Mount Vernon\, Ohio
UID:e.2893.4968
SEQUENCE:3
DTSTAMP:20260419T144303Z
URL:http://knoxchamber.smartcms.site/events/details/chamber-mixer-4968
END:VEVENT

END:VCALENDAR
