BEGIN:VCALENDAR
VERSION:2.0
PRODID:-//ChamberMaster//Event Calendar 2.0//EN
METHOD:PUBLISH
X-PUBLISHED-TTL:P3D
REFRESH-INTERVAL:P3D
CALSCALE:GREGORIAN
BEGIN:VEVENT
DTSTART:20190228T190000Z
DTEND:20190228T210000Z
X-MICROSOFT-CDO-ALLDAYEVENT:FALSE
SUMMARY:CHAMBER: Meet and Greet with Dr. John M. Berry\, COTC
DESCRIPTION:Central Ohio Technical College will welcome their new president\, Dr. John M. Berry\, to the Knox County campus on Thursday\, February 28\, from 2-4pm. They will be hosting a meet and greet in Ariel Hall of Central Ohio Technical College.\n\n\n\nThe Chamber of Commerce is pleased to welcome Dr. Berry and encourage everyone to attend.  Your reservations are appreciated so we have an accurate headcount.\n\n\n\nRSVP by clicking on the link above\; or call the Chamber office at 740-393-1111.  All are welcome to attend.
X-ALT-DESC;FMTTYPE=text/html:&nbsp\;\n<div _mce_style="text-align: left\; color: #000000\; font-family: Georgia\, Times New Roman\, Times\, serif\; font-size: 8pt\;" align="left" style="text-align: left\; color: rgb(0\, 0\, 0)\; font-family: Georgia\, Times New Roman\, Times\, serif\; font-size: 8pt\;">\n<div _mce_style="font-family: Georgia\, Times New Roman\, Times\, serif\;" style="font-family: Georgia\, Times New Roman\, Times\, serif\;"><span style="font-size:16px\;"><span style="font-family:arial\;"><em>Central&nbsp\;Ohio Technical College</em><strong>&nbsp\;</strong>will welcome their&nbsp\;new president\,&nbsp\;Dr. John M. Berry\, to the Knox County campus on Thursday\, February 28\, from 2-4pm. They will be hosting a meet and greet in Ariel Hall of Central Ohio Technical College.<br />\n<br />\nThe Chamber of Commerce is pleased to welcome Dr. Berry and encourage everyone to attend.&nbsp\; Your reservations are appreciated so we have an accurate headcount.<br />\n<br />\n<span style="color:#0000FF\;"><strong>RSVP by clicking on the link above\; or call the Chamber office at 740-393-1111.&nbsp\; All are welcome to attend.</strong></span></span></span></div>\n</div>\n
LOCATION:Ariel Hall\, Central Ohio Technical College 236 South Main Street\, Mount Vernon
UID:e.2893.3872
SEQUENCE:3
DTSTAMP:20260421T195659Z
URL:http://knoxchamber.smartcms.site/events/details/chamber-meet-and-greet-with-dr-john-m-berry-cotc-3872
END:VEVENT

END:VCALENDAR
