BEGIN:VCALENDAR
VERSION:2.0
PRODID:-//ChamberMaster//Event Calendar 2.0//EN
METHOD:PUBLISH
X-PUBLISHED-TTL:P3D
REFRESH-INTERVAL:P3D
CALSCALE:GREGORIAN
BEGIN:VEVENT
DTSTART:20180816T120000Z
DTEND:20180816T200000Z
X-MICROSOFT-CDO-ALLDAYEVENT:FALSE
SUMMARY:CHAMBER: Leadership Knox Retreat
DESCRIPTION:This is the kickoff for the next Leadership Knox class.\n\nOur office is closed today for the all-day orientation to the 10-month program.  Our office will re-open on August 17th at 8:00 a.m.\n\n\n\nTo learn more about Leadership Knox\, visit our website or contact the Chamber office.
X-ALT-DESC;FMTTYPE=text/html:This is the kickoff for the next Leadership Knox class.<br />\n<strong><u>Our office is closed today</u></strong> for the all-day orientation to the 10-month program.&nbsp\; Our office will re-open on August 17th at 8:00 a.m.<br />\n<br />\nTo learn more about Leadership Knox\, visit our website or contact the Chamber office.
LOCATION:
UID:e.2893.3757
SEQUENCE:3
DTSTAMP:20260422T043845Z
URL:http://knoxchamber.smartcms.site/events/details/chamber-leadership-knox-retreat-3757
END:VEVENT

END:VCALENDAR
