BEGIN:VCALENDAR
VERSION:2.0
PRODID:-//ChamberMaster//Event Calendar 2.0//EN
METHOD:PUBLISH
X-PUBLISHED-TTL:P3D
REFRESH-INTERVAL:P3D
CALSCALE:GREGORIAN
BEGIN:VEVENT
DTSTART:20200806T173000Z
DTEND:20200806T190000Z
X-MICROSOFT-CDO-ALLDAYEVENT:FALSE
SUMMARY:CHAMBER: Leadership Knox Graduation
DESCRIPTION:Class of 2020\, Class Sponsors\, Leadership Knox Alumni\, and Board of Trustees are invited to attend the graduation ceremony of the Class of 2020.\n\n\n\nJoin us for cake and hear the special presentation of the class project\, guest speakers\, and the graduation ceremony.\n\n\n\nThis event is open only to class members and their guest\, class member's sponsors\, LK alumni\, and Board of Trustees.  Reservations are required.
X-ALT-DESC;FMTTYPE=text/html:<span style="font-family:verdana\;">Class of 2020\, Class Sponsors\, Leadership Knox Alumni\, and Board of Trustees are invited to attend the graduation ceremony of the Class of 2020.<br />\n<br />\nJoin us for cake and hear the special presentation of the class project\, guest speakers\, and the graduation ceremony.<br />\n<br />\n<span style="color:#FF0000\;"><strong>This event is open only to class members and their guest\, class member&#39\;s sponsors\, LK alumni\, and Board of Trustees.&nbsp\; Reservations are required.</strong></span></span>
LOCATION:Schnormeier Event Center at Ariel-Foundation Park
UID:e.2893.4761
SEQUENCE:3
DTSTAMP:20260420T124231Z
URL:http://knoxchamber.smartcms.site/events/details/chamber-leadership-knox-graduation-4761
END:VEVENT

END:VCALENDAR
