BEGIN:VCALENDAR
VERSION:2.0
PRODID:-//ChamberMaster//Event Calendar 2.0//EN
METHOD:PUBLISH
X-PUBLISHED-TTL:P3D
REFRESH-INTERVAL:P3D
CALSCALE:GREGORIAN
BEGIN:VEVENT
DTSTART:20180712T200000Z
DTEND:20180712T230000Z
X-MICROSOFT-CDO-ALLDAYEVENT:FALSE
SUMMARY:CHAMBER HER Realtors - Centerburg Ribbon Cutting
DESCRIPTION:The Chamber is hosting a Ribbon Cutting ceremony at 5:00pm at the new HER Realtors Centerburg office.  The Open House will run from 4 pm until 7 pm.
X-ALT-DESC;FMTTYPE=text/html:The Chamber is hosting a <span style="color:#FF0000\;"><strong>Ribbon Cutting ceremony at 5:00pm</strong></span>&nbsp\;at the new <strong><span style="color:#FF0000\;">HER Realtors Centerburg</span></strong> office.&nbsp\; The Open House will run from 4 pm until 7 pm.&nbsp\;&nbsp\;
LOCATION:28 North Clayton Street\, Centerburg\, Ohio
UID:e.2893.3749
SEQUENCE:3
DTSTAMP:20260422T061548Z
URL:http://knoxchamber.smartcms.site/events/details/chamber-her-realtors-centerburg-ribbon-cutting-3749
END:VEVENT

END:VCALENDAR
