BEGIN:VCALENDAR
VERSION:2.0
PRODID:-//ChamberMaster//Event Calendar 2.0//EN
METHOD:PUBLISH
X-PUBLISHED-TTL:P3D
REFRESH-INTERVAL:P3D
CALSCALE:GREGORIAN
BEGIN:VEVENT
DTSTART;VALUE=DATE:20161021
DTEND;VALUE=DATE:20161024
TRANSP:TRANSPARENT
X-MICROSOFT-CDO-ALLDAYEVENT:TRUE
SUMMARY:Chamber Halloweekends @ Cedar Point
DESCRIPTION:We are excited to offer a new exclusive discount for Chamber members to the "Roller Coaster Capital of the World".Members are eligible to select several options for discounted tickets to Cedar Point and Soak City.  In addition we have scheduled Chamber days at Cedar Point that offers discounted tickets.  These dates include:Saturday\, July 23Saturday\, August 27Saturday\, September 17and enjoy Halloweekends October 21\, 22 and 23.To access tickets\, please use the link below\, and log into the system using the username and password provided.  Please note the username and password are case-sensitive.http://shop.accesso.com/clients/cedarfair/?park=cpUsername: KNOXCOUNTYCCPassword: kccc2016
X-ALT-DESC;FMTTYPE=text/html:<div _mce_style="text-align: center\;" align="center" style="text-align:center\;color:#000000\;text-transform:none\;text-indent:0px\;letter-spacing:normal\;word-spacing:0px\;white-space:normal\;widows:1\;-webkit-text-stroke-width:0px\;"><span _mce_style="color: #000000\; font-family: 'Arial Narrow'\, sans-serif\; font-size: 12pt\;" style="color:#000000\;font-family:'Arial Narrow'\, sans-serif\;font-size:12pt\;"><div>We are excited to offer a new exclusive discount for Chamber members to the "Roller Coaster Capital of the World".</div><div>Members are eligible to select several options for discounted tickets to Cedar Point and Soak City. &nbsp\;In addition we have scheduled Chamber days at Cedar Point that offers discounted tickets. &nbsp\;These dates include:</div><div>Saturday\, July 23</div><div>Saturday\, August 27</div><div>Saturday\, September 17</div></span></div><div _mce_style="color: #000000\; font-family: Georgia\, 'Times New Roman'\, Times\, serif\; font-size: 12pt\;" style="font:12pt/normal Georgia\, 'Times New Roman'\, Times\, serif\;text-align:center\;color:#000000\;text-transform:none\;text-indent:0px\;letter-spacing:normal\;word-spacing:0px\;white-space:normal\;widows:1\;-webkit-text-stroke-width:0px\;"><span _mce_style="font-family: 'Arial Narrow'\, sans-serif\; font-size: 12pt\;" style="font-family:'Arial Narrow'\, sans-serif\;font-size:12pt\;">and enjoy Halloweekends October 21\, 22 and 23.</span></div><div _mce_style="color: #000000\; font-family: Georgia\, 'Times New Roman'\, Times\, serif\; font-size: 12pt\;" style="font:12pt/normal Georgia\, 'Times New Roman'\, Times\, serif\;text-align:center\;color:#000000\;text-transform:none\;text-indent:0px\;letter-spacing:normal\;word-spacing:0px\;white-space:normal\;widows:1\;-webkit-text-stroke-width:0px\;"></div><div _mce_style="color: #000000\; font-family: "Arial Narrow"\, "Arial MT Condensed Light"\, sans-serif\; font-size: 12pt\;" style="font:12pt/normal 'Arial Narrow'\, 'Arial MT Condensed Light'\, sans-serif\;text-align:center\;color:#000000\;text-transform:none\;text-indent:0px\;letter-spacing:normal\;word-spacing:0px\;white-space:normal\;widows:1\;-webkit-text-stroke-width:0px\;">To access tickets\, please use the link below\, and log into the system using the username and password provided. &nbsp\;Please note the username and password are case-sensitive.</div><div _mce_style="color: #000000\; font-family: "Arial Narrow"\, "Arial MT Condensed Light"\, sans-serif\; font-size: 12pt\;" style="font:12pt/normal 'Arial Narrow'\, 'Arial MT Condensed Light'\, sans-serif\;text-align:center\;color:#000000\;text-transform:none\;text-indent:0px\;letter-spacing:normal\;word-spacing:0px\;white-space:normal\;widows:1\;-webkit-text-stroke-width:0px\;"><a _mce_href="http://shop.accesso.com/clients/cedarfair/?park=cp" _mce_shape="rect" _mce_style="font-weight: bold\; color: #800000\; text-decoration: underline\;" href="http://shop.accesso.com/clients/cedarfair/?park=cp" linktype="1" shape="rect" style="color:#800000\;font-weight:bold\;text-decoration:underline !important\;" target="_blank" track="on">http://shop.accesso.com/clients/cedarfair/?park=cp</a></div><div _mce_style="color: #000000\; font-family: Georgia\, 'Times New Roman'\, Times\, serif\; font-size: 12pt\;" style="font:12pt/normal Georgia\, 'Times New Roman'\, Times\, serif\;text-align:center\;color:#000000\;text-transform:none\;text-indent:0px\;letter-spacing:normal\;word-spacing:0px\;white-space:normal\;widows:1\;-webkit-text-stroke-width:0px\;"><span _mce_style="font-family: 'Arial Narrow'\, sans-serif\; font-size: 12pt\;" style="font-family:'Arial Narrow'\, sans-serif\;font-size:12pt\;">Username: KNOXCOUNTYCC</span></div><div _mce_style="color: #000000\; font-family: Georgia\, 'Times New Roman'\, Times\, serif\; font-size: 12pt\;" style="font:12pt/normal Georgia\, 'Times New Roman'\, Times\, serif\;text-align:center\;color:#000000\;text-transform:none\;text-indent:0px\;letter-spacing:normal\;word-spacing:0px\;white-space:normal\;widows:1\;-webkit-text-stroke-width:0px\;"><span _mce_style="font-family: 'Arial Narrow'\, sans-serif\; font-size: 12pt\;" style="font-family:'Arial Narrow'\, sans-serif\;font-size:12pt\;">Password: kccc2016</span></div>
LOCATION:
UID:e.2893.882
SEQUENCE:3
DTSTAMP:20260423T193003Z
URL:http://knoxchamber.smartcms.site/events/details/chamber-halloweekends-cedar-point-10-21-2016-882
END:VEVENT

END:VCALENDAR
