BEGIN:VCALENDAR
VERSION:2.0
PRODID:-//ChamberMaster//Event Calendar 2.0//EN
METHOD:PUBLISH
X-PUBLISHED-TTL:P3D
REFRESH-INTERVAL:P3D
CALSCALE:GREGORIAN
BEGIN:VEVENT
DTSTART:20180817T160000Z
DTEND:20180817T170000Z
X-MICROSOFT-CDO-ALLDAYEVENT:FALSE
SUMMARY:CHAMBER: FDIC Money Smart Series - Time Management
DESCRIPTION:FDIC Money Smart Series\n\nfor Small Business: Time Management\n\n\n\n\n\nTips to make you more efficient\n\n \n\n\n\n\nPresented by:\n\nWoodforest National Bank\n\n \n\n \n\nTime Management\n\nAfter completing this module\, the participants will be able to:\n\n \n\n\n\n\n	Improve their time management skills.\n	Apply some common time management practices\, such as: ABC Analysis\, Pareto Analysis\, Eisenhower Method\, POSEC Method\n\n\n\nMoney Smart is a comprehensive financial education curriculum designed to help business owners\, consumers and young adults.  To learn more click here.\n\n\nThe Chamber in cooperation with Woodforest National Bank is excited to offer this FREE series in Knox County.
X-ALT-DESC;FMTTYPE=text/html:<div _mce_style="color: #000000\; font-size: 14pt\; font-family: Georgia\, &quot\;Times New Roman&quot\;\, Times\, serif\;" style="color: rgb(0\, 0\, 0)\; text-align: -webkit-center\; font-size: 14pt\; font-family: Georgia\, &quot\;Times New Roman&quot\;\, Times\, serif\;">\n<div><strong>FDIC Money Smart Series</strong></div>\n\n<div><strong>for Small Business:&nbsp\;</strong><span _mce_style="color: #000000\; font-size: 18.6667px\; font-family: Georgia\, &quot\;Times New Roman&quot\;\, Times\, serif\;" style="font-size: 18.6667px\; font-family: Georgia\, &quot\;Times New Roman&quot\;\, Times\, serif\;"><b>Time&nbsp\;</b></span><span _mce_style="font-size: 18.6667px\; font-family: Georgia\, &quot\;Times New Roman&quot\;\, Times\, serif\;" style="font-size: 18.6667px\; font-family: Georgia\, &quot\;Times New Roman&quot\;\, Times\, serif\;"><b>Management</b></span></div>\n</div>\n\n<div style="color: rgb(0\, 0\, 0)\; font-family: &quot\;Times New Roman&quot\;\; font-size: medium\; text-align: -webkit-center\;">\n<div>\n<div>\n<div _mce_style="color: #000000\; font-size: 10pt\;" style="font-size: 10pt\;"><span _mce_style="font-family: Georgia\, &quot\;Times New Roman&quot\;\, Times\, serif\;" style="font-family: Georgia\, &quot\;Times New Roman&quot\;\, Times\, serif\;">Tips to make you more efficient</span></div>\n\n<div _mce_style="color: #000000\;"><span _mce_style="font-size: 18.6667px\;" style="font-size: 18.6667px\;">&nbsp\;</span></div>\n</div>\n</div>\n\n<div _mce_style="color: #000000\; font-size: 12pt\; font-family: Georgia\, &quot\;Times New Roman&quot\;\, Times\, serif\;" style="font-size: 12pt\; font-family: Georgia\, &quot\;Times New Roman&quot\;\, Times\, serif\;">\n<div _mce_style="font-size: 9pt\;" style="font-size: 9pt\;">Presented by:</div>\n\n<div _mce_style="font-size: 9pt\;" style="font-size: 9pt\;">Woodforest&nbsp\;National Bank</div>\n\n<div _mce_style="font-size: 9pt\;" style="font-size: 9pt\;">&nbsp\;</div>\n\n<div _mce_style="font-size: 9pt\;" style="font-size: 9pt\;">&nbsp\;</div>\n\n<div _mce_style="font-size: 9pt\; font-family: Georgia\, &quot\;Times New Roman&quot\;\, Times\, serif\;" style="font-size: 9pt\;"><strong _mce_style="color: #333333\; font-size: 13px\;" style="color: rgb(51\, 51\, 51)\; font-size: 13px\;">Time Management</strong></div>\n\n<div _mce_style="font-size: 9pt\; font-family: Georgia\, &quot\;Times New Roman&quot\;\, Times\, serif\; text-align: center\;" align="center" style="font-size: 9pt\;"><span _mce_style="color: #333333\; font-size: 13px\;" style="color: rgb(51\, 51\, 51)\; font-size: 13px\;">After completing this module\, the participants will be able to:</span></div>\n\n<div _mce_style="font-size: 9pt\; font-family: Georgia\, &quot\;Times New Roman&quot\;\, Times\, serif\; text-align: center\;" align="center" style="font-size: 9pt\;">&nbsp\;</div>\n\n<div _mce_style="font-size: 9pt\; text-align: center\;" align="center" style="font-size: 9pt\;">\n<div _mce_style="font-family: Georgia\, &quot\;Times New Roman&quot\;\, Times\, serif\; font-size: 9pt\;" style="font-size: 9pt\;">\n<ul _mce_style="padding: 0px 0px 0px 10px\; color: #333333\; font-size: 13px\; margin: 0px 0px 0px 15px\; list-style-image: url(/responsive/graphics/ul-symbol.png)\; font-family: &quot\;Helvetica Neue&quot\;\, Helvetica\, Arial\, sans-serif\;" style="padding-right: 0px\; padding-left: 10px\; color: rgb(51\, 51\, 51)\; font-size: 13px\; margin: 0px 0px 0px 15px\; list-style-image: url(&quot\;/responsive/graphics/ul-symbol.png&quot\;)\; font-family: &quot\;Helvetica Neue&quot\;\, Helvetica\, Arial\, sans-serif\;">\n	<li _mce_style="margin-top: 0px\; margin-right: 0px\; margin-bottom: 0px\; padding-top: 0px\; padding-right: 0px\; padding-bottom: 10px\;" style="margin-top: 0px\; margin-right: 0px\; margin-bottom: 0px\; padding-top: 0px\; padding-right: 0px\; padding-bottom: 10px\;">Improve their time management skills.</li>\n	<li _mce_style="margin-top: 0px\; margin-right: 0px\; margin-bottom: 0px\; padding-top: 0px\; padding-right: 0px\; padding-bottom: 10px\;" style="margin-top: 0px\; margin-right: 0px\; margin-bottom: 0px\; padding-top: 0px\; padding-right: 0px\; padding-bottom: 10px\;">Apply some common time management practices\, such as: ABC Analysis\, Pareto Analysis\, Eisenhower Method\,&nbsp\;POSEC&nbsp\;Method</li>\n</ul>\n</div>\n\n<div>Money Smart is a comprehensive financial education curriculum designed to help business owners\, consumers and young adults.&nbsp\; To learn more&nbsp\;<a _mce_href="https://www.fdic.gov/consumers/consumer/moneysmart/business2.html#credit" _mce_shape="rect" _mce_style="font-weight: bold\; color: #800000 !important\; text-decoration: underline !important\;" href="https://www.fdic.gov/consumers/consumer/moneysmart/business2.html#credit" linktype="1" shape="rect" style="color: rgb(128\, 0\, 0) !important\; font-weight: bold\;" target="_blank" track="on">click here.</a></div>\n</div>\n\n<div _mce_style="text-align: center\; font-size: 9pt\;" align="center" style="font-size: 9pt\;"><em>The Chamber in cooperation with&nbsp\;Woodforest&nbsp\;National Bank is excited to offer this&nbsp\;FREE&nbsp\;series in Knox County.</em>&nbsp\;</div>\n</div>\n\n<div _mce_style="color: #000000\; font-family: Georgia\, &quot\;Times New Roman&quot\;\, Times\, serif\; font-size: 9pt\;" style="font-family: Georgia\, &quot\;Times New Roman&quot\;\, Times\, serif\; font-size: 9pt\;">\n<div>&nbsp\;</div>\n</div>\n</div>\n
LOCATION:Knox County Chamber office\, 400 South Gay Street\, Mount Vernon. Park in the gravel lot across the street from the Chamber office. Enter west-end door facing Howard Street.
UID:e.2893.3662
SEQUENCE:3
DTSTAMP:20260422T043845Z
URL:http://knoxchamber.smartcms.site/events/details/chamber-fdic-money-smart-series-time-management-3662
END:VEVENT

END:VCALENDAR
