BEGIN:VCALENDAR
VERSION:2.0
PRODID:-//ChamberMaster//Event Calendar 2.0//EN
METHOD:PUBLISH
X-PUBLISHED-TTL:P3D
REFRESH-INTERVAL:P3D
CALSCALE:GREGORIAN
BEGIN:VEVENT
DTSTART:20180720T200000Z
DTEND:20180720T220000Z
X-MICROSOFT-CDO-ALLDAYEVENT:FALSE
SUMMARY:CHAMBER EVENT: Veterans Home Care Grand Opening & Ribbon Cutting
DESCRIPTION:Come and enjoy the fun! Grand Opening and Ribbon Cutting ceremony.  Enjoy live entertainment by Adam Taylor.  Wine\, refreshments and snacks provided.\n\n\n\n\n\nRibbon Cutting will take place at 4:30 pm.
X-ALT-DESC;FMTTYPE=text/html:Come and enjoy the fun!&nbsp\;Grand Opening and Ribbon Cutting ceremony.&nbsp\; Enjoy live entertainment by Adam Taylor.&nbsp\; Wine\, refreshments and snacks provided.<br />\n<br />\n<br />\n<strong>Ribbon Cutting will take place at 4:30 pm.</strong>
LOCATION:1590 Coshocton Avenue\, Suite B\, Mount Vernon\, Ohio. Office is located in the State Farm Tim Workman center.
UID:e.2893.3752
SEQUENCE:3
DTSTAMP:20260422T061549Z
URL:http://knoxchamber.smartcms.site/events/details/chamber-event-veterans-home-care-grand-opening-ribbon-cutting-3752
END:VEVENT

END:VCALENDAR
