BEGIN:VCALENDAR
VERSION:2.0
PRODID:-//ChamberMaster//Event Calendar 2.0//EN
METHOD:PUBLISH
X-PUBLISHED-TTL:P3D
REFRESH-INTERVAL:P3D
CALSCALE:GREGORIAN
BEGIN:VEVENT
DTSTART:20190207T130000Z
DTEND:20190207T140000Z
X-MICROSOFT-CDO-ALLDAYEVENT:FALSE
SUMMARY:CHAMBER: Coffee with the Chamber
DESCRIPTION:Join us from 8:00 to 9:00am on Thursday\, February 7 for the first Coffee With the Chamber of 2019.  Enjoy coffee and donuts at the Chamber office as we discuss the topic of taxes related to business.  A CPA will be available to discuss and answer any questions.  \n\n\n\nThese forums are focused on small businesses and their owners\, but all are welcome to join this free event.
X-ALT-DESC;FMTTYPE=text/html:<span style="text-align: center\; color: rgb(0\, 0\, 0)\; text-transform: none\; text-indent: 0px\; letter-spacing: normal\; font-family: Georgia\, &quot\;Times New Roman&quot\;\, Times\, serif\; font-size: 10.66px\; font-style: normal\; font-weight: 400\; word-spacing: 0px\; float: none\; display: inline !important\; white-space: normal\; orphans: 2\; widows: 2\; font-variant-ligatures: normal\; font-variant-caps: normal\; -webkit-text-stroke-width: 0px\; text-decoration-style: initial\; text-decoration-color: initial\;">Join us from 8:00 to 9:00am on Thursday\, February 7 for the first Coffee With the Chamber of 2019.&nbsp\; Enjoy coffee and donuts at the Chamber office as we discuss the topic of taxes related to business.&nbsp\; A CPA will be available to discuss and answer any questions.&nbsp\;&nbsp\;</span><br style="text-align: center\; color: rgb(0\, 0\, 0)\; text-transform: none\; text-indent: 0px\; letter-spacing: normal\; font-family: Georgia\, &quot\;Times New Roman&quot\;\, Times\, serif\; font-size: 10.66px\; font-style: normal\; font-weight: 400\; word-spacing: 0px\; white-space: normal\; orphans: 2\; widows: 2\; font-variant-ligatures: normal\; font-variant-caps: normal\; -webkit-text-stroke-width: 0px\; text-decoration-style: initial\; text-decoration-color: initial\;" />\n<br style="text-align: center\; color: rgb(0\, 0\, 0)\; text-transform: none\; text-indent: 0px\; letter-spacing: normal\; font-family: Georgia\, &quot\;Times New Roman&quot\;\, Times\, serif\; font-size: 10.66px\; font-style: normal\; font-weight: 400\; word-spacing: 0px\; white-space: normal\; orphans: 2\; widows: 2\; font-variant-ligatures: normal\; font-variant-caps: normal\; -webkit-text-stroke-width: 0px\; text-decoration-style: initial\; text-decoration-color: initial\;" />\n<span style="text-align: center\; color: rgb(0\, 0\, 0)\; text-transform: none\; text-indent: 0px\; letter-spacing: normal\; font-family: Georgia\, &quot\;Times New Roman&quot\;\, Times\, serif\; font-size: 10.66px\; font-style: normal\; font-weight: 400\; word-spacing: 0px\; float: none\; display: inline !important\; white-space: normal\; orphans: 2\; widows: 2\; font-variant-ligatures: normal\; font-variant-caps: normal\; -webkit-text-stroke-width: 0px\; text-decoration-style: initial\; text-decoration-color: initial\;">These forums are focused on small businesses and their owners\, but all are welcome to join this free event.&nbsp\;&nbsp\;</span>
LOCATION:Knox County Chamber of Commerce\, 400 South Gay Street\, Mount Vernon
UID:e.2893.3876
SEQUENCE:3
DTSTAMP:20260421T182601Z
URL:http://knoxchamber.smartcms.site/events/details/chamber-coffee-with-the-chamber-3876
END:VEVENT

END:VCALENDAR
