BEGIN:VCALENDAR
VERSION:2.0
PRODID:-//ChamberMaster//Event Calendar 2.0//EN
METHOD:PUBLISH
X-PUBLISHED-TTL:P3D
REFRESH-INTERVAL:P3D
CALSCALE:GREGORIAN
BEGIN:VEVENT
DTSTART:20180508T210000Z
DTEND:20180508T220000Z
X-MICROSOFT-CDO-ALLDAYEVENT:FALSE
SUMMARY:CHAMBER Business After Hours - Hobby Hill Horse Farm
DESCRIPTION:Join us on Tuesday\, May 8th from 5:00pm to 6:00pm at Hobby Hill Horse Farm for a Business After Hours.
X-ALT-DESC;FMTTYPE=text/html:Join us on Tuesday\, May 8th from 5:00pm to 6:00pm at Hobby Hill Horse Farm for a Business After Hours.&nbsp\;
LOCATION:Hobby Hill Horse Farm 7559 Yankee Street\, Fredericktown
UID:e.2893.2592
SEQUENCE:3
DTSTAMP:20260422T092712Z
URL:http://knoxchamber.smartcms.site/events/details/chamber-business-after-hours-hobby-hill-horse-farm-2592
END:VEVENT

END:VCALENDAR
