BEGIN:VCALENDAR
VERSION:2.0
PRODID:-//ChamberMaster//Event Calendar 2.0//EN
METHOD:PUBLISH
X-PUBLISHED-TTL:P3D
REFRESH-INTERVAL:P3D
CALSCALE:GREGORIAN
BEGIN:VEVENT
DTSTART:20200312T213000Z
DTEND:20200312T230000Z
X-MICROSOFT-CDO-ALLDAYEVENT:FALSE
SUMMARY:CHAMBER: Ambassador Dinner
DESCRIPTION:This event is open to Ambassadors only.  This is the first meeting of 2020 and the chair\, Tonya Boucher\, will review several exciting topics including the scoreboard\, blitz\, newsletter\, and more.  Reservations are required.
X-ALT-DESC;FMTTYPE=text/html:<span style="font-size:14px\;"><strong><span style="color:#FF0000\;">This event is open to Ambassadors only.</span>&nbsp\;</strong></span> This is the first meeting of 2020 and the chair\, Tonya Boucher\, will review several exciting topics including the scoreboard\, blitz\, newsletter\, and more.&nbsp\; Reservations are required.
LOCATION:Buffalo Wild Wings 907 Coshocton Avenue Mount Vernon\, Ohio 43050
UID:e.2893.4754
SEQUENCE:3
DTSTAMP:20260420T201022Z
URL:http://knoxchamber.smartcms.site/events/details/chamber-ambassador-dinner-4754
END:VEVENT

END:VCALENDAR
