BEGIN:VCALENDAR
VERSION:2.0
PRODID:-//ChamberMaster//Event Calendar 2.0//EN
METHOD:PUBLISH
X-PUBLISHED-TTL:P3D
REFRESH-INTERVAL:P3D
CALSCALE:GREGORIAN
BEGIN:VEVENT
DTSTART:20200611T130000Z
DTEND:20200611T140000Z
X-MICROSOFT-CDO-ALLDAYEVENT:FALSE
SUMMARY:CHAMBER: Advertising for Small Business
DESCRIPTION:Don't miss this opportunity to learn about effective advertising for your business.  Register to receive the webinar link.\n\n \n\n\n	Basic marketing concepts\n	Advertising's role in marketing\n	Social media advertising & branding strategies\n	Advertising tips and practices for small businesses\n\n\n\n\n                                      Link to access the webinar will be sent to all that register.\n\n                                        Link will be emailed the day before the training session.\n\n\n\nPresenter is Mr. Joel Gottke.\n\n\n	10 years US Army public affairs & marketing - Public Affairs Chief\n	5 years of professional service marketing experience\n	ESBA in Marketing\n	MBA Candidate - Syracuse University\n	Business Development Coordinator for an AMLaw 200 Company
X-ALT-DESC;FMTTYPE=text/html:<div style="padding: 0px\; margin: 0px\; line-height: 1.2\; font-size: 15px\; color: windowtext\;"><span style="font-size:20px\;">Don&#39\;t miss this opportunity to learn about effective advertising for your business.&nbsp\; Register to receive the webinar link.</span><br />\n&nbsp\;</div>\n\n<ul>\n	<li style="padding: 0px\; margin: 0px\; line-height: 1.2\; font-size: 15px\; color: windowtext\;">Basic marketing concepts</li>\n	<li style="padding: 0px\; margin: 0px\; line-height: 1.2\; font-size: 15px\; color: windowtext\;">Advertising&#39\;s role in marketing</li>\n	<li style="padding: 0px\; margin: 0px\; line-height: 1.2\; font-size: 15px\; color: windowtext\;">Social media advertising &amp\; branding strategies</li>\n	<li style="padding: 0px\; margin: 0px\; line-height: 1.2\; font-size: 15px\; color: windowtext\;">Advertising tips and practices for small businesses</li>\n</ul>\n\n<div style="padding: 0px\; margin: 0px\; line-height: 1.2\; font-size: 15px\; color: windowtext\;"><br />\n&nbsp\; &nbsp\;&nbsp\;&nbsp\;&nbsp\;&nbsp\;&nbsp\;&nbsp\;&nbsp\;&nbsp\;&nbsp\;&nbsp\;&nbsp\;&nbsp\;&nbsp\;&nbsp\;&nbsp\;&nbsp\;&nbsp\;&nbsp\;&nbsp\;&nbsp\;&nbsp\;&nbsp\;&nbsp\;&nbsp\;&nbsp\;&nbsp\;&nbsp\;&nbsp\;&nbsp\;&nbsp\;&nbsp\;&nbsp\;&nbsp\; <span style="color:#FF0000\;">&nbsp\;Link to access the webinar will be sent to all that register.<br />\n&nbsp\;&nbsp\;&nbsp\;&nbsp\;&nbsp\;&nbsp\;&nbsp\;&nbsp\;&nbsp\;&nbsp\;&nbsp\;&nbsp\;&nbsp\;&nbsp\;&nbsp\;&nbsp\;&nbsp\;&nbsp\;&nbsp\;&nbsp\;&nbsp\;&nbsp\;&nbsp\;&nbsp\;&nbsp\;&nbsp\;&nbsp\;&nbsp\;&nbsp\;&nbsp\;&nbsp\;&nbsp\;&nbsp\;&nbsp\;&nbsp\;&nbsp\;&nbsp\; &nbsp\; Link will be emailed the day before the training session.</span><br />\n<br />\n<u><strong>Presenter is Mr. Joel Gottke.</strong></u></div>\n\n<ul>\n	<li style="padding: 0px\; margin: 0px\; line-height: 1.2\; font-size: 15px\; color: windowtext\;">10 years US Army public affairs &amp\; marketing - Public Affairs Chief</li>\n	<li style="padding: 0px\; margin: 0px\; line-height: 1.2\; font-size: 15px\; color: windowtext\;">5 years of professional service marketing experience</li>\n	<li style="padding: 0px\; margin: 0px\; line-height: 1.2\; font-size: 15px\; color: windowtext\;">ESBA in Marketing</li>\n	<li style="padding: 0px\; margin: 0px\; line-height: 1.2\; font-size: 15px\; color: windowtext\;">MBA Candidate - Syracuse University</li>\n	<li style="padding: 0px\; margin: 0px\; line-height: 1.2\; font-size: 15px\; color: windowtext\;">Business Development Coordinator for an AMLaw 200 Company</li>\n</ul>\n
LOCATION:
UID:e.2893.4760
SEQUENCE:3
DTSTAMP:20260420T150648Z
URL:http://knoxchamber.smartcms.site/events/details/chamber-advertising-for-small-business-4760
END:VEVENT

END:VCALENDAR
