BEGIN:VCALENDAR
VERSION:2.0
PRODID:-//ChamberMaster//Event Calendar 2.0//EN
METHOD:PUBLISH
X-PUBLISHED-TTL:P3D
REFRESH-INTERVAL:P3D
CALSCALE:GREGORIAN
BEGIN:VEVENT
DTSTART:20181208T150000Z
DTEND:20181208T210000Z
X-MICROSOFT-CDO-ALLDAYEVENT:FALSE
SUMMARY:Candy Cane Lane Craft Fair
DESCRIPTION:You are invited to The Mount Vernon Grand Hotel's first ever CRAFT FAIR! The Candy Cane Lane Craft Fair is set for Saturday\, December 8th\, 2018. Come and check out amazing crafts and products from 10:00AM - 4:00PM. Admission to the show is free and open to the public. If you would like to donate to Food for the Hungry\, we will be collecting cash and canned good items. All booth rental proceeds will be donated to Food for the Hungry. If you are interested in presenting your craft or products during the Candy Cane Lane Craft Fair\, please contact us today- 844-700-1717 or events@mountvernongrand.com. ALL PROCEEDS TO BENEFIT FOOD FOR THE HUNGRY!!
X-ALT-DESC;FMTTYPE=text/html:You are invited to The Mount Vernon Grand Hotel&#39\;s first ever CRAFT FAIR! The Candy Cane Lane Craft Fair is set for Saturday\, December 8th\, 2018. Come and check out amazing crafts and products from 10:00AM - 4:00PM. Admission to the show is free and open to the public. If you would like to donate to Food for the Hungry\, we will be collecting cash and canned good items. All booth rental proceeds will be donated to Food for the Hungry. If you are interested in presenting your craft or products during the Candy Cane Lane Craft Fair\, please contact us today- 844-700-1717 or events@mountvernongrand.com. ALL PROCEEDS TO BENEFIT FOOD FOR THE HUNGRY!!
LOCATION:The Mount Vernon Grand Hotel 12 Public Square\, Mount Vernon
UID:e.2893.3853
SEQUENCE:3
DTSTAMP:20260421T213544Z
URL:http://knoxchamber.smartcms.site/events/details/candy-cane-lane-craft-fair-3853
END:VEVENT

END:VCALENDAR
