BEGIN:VCALENDAR
VERSION:2.0
PRODID:-//ChamberMaster//Event Calendar 2.0//EN
METHOD:PUBLISH
X-PUBLISHED-TTL:P3D
REFRESH-INTERVAL:P3D
CALSCALE:GREGORIAN
BEGIN:VEVENT
DTSTART:20200324T200000Z
DTEND:20200324T230000Z
X-MICROSOFT-CDO-ALLDAYEVENT:FALSE
SUMMARY:Cancelled: Chamber Ribbon Cutting Wright Family Medical Pavilion
DESCRIPTION:The Official Ribbon Cutting Ceremony for the Wright Family Medical Pavilion is set for Tuesday\, March 24 at 5:30pm. The Knox Community Hospital will be hosting the open house from 4-7pm so that attendees are able to view the new facility.  Come out and be a part of history!
X-ALT-DESC;FMTTYPE=text/html:The Official Ribbon Cutting Ceremony for the Wright Family Medical Pavilion is set for Tuesday\, March 24 at 5:30pm. The Knox Community Hospital will be hosting the open house from 4-7pm so that attendees are able to view the new facility.&nbsp\; Come out and be a part of history!
LOCATION:Knox Community Hospital
UID:e.2893.4752
SEQUENCE:3
DTSTAMP:20260420T201440Z
URL:http://knoxchamber.smartcms.site/events/details/cancelled-chamber-ribbon-cutting-wright-family-medical-pavilion-4752
END:VEVENT

END:VCALENDAR
