BEGIN:VCALENDAR
VERSION:2.0
PRODID:-//ChamberMaster//Event Calendar 2.0//EN
METHOD:PUBLISH
X-PUBLISHED-TTL:P3D
REFRESH-INTERVAL:P3D
CALSCALE:GREGORIAN
BEGIN:VEVENT
DTSTART:20180619T123000Z
DTEND:20180622T203000Z
X-MICROSOFT-CDO-ALLDAYEVENT:FALSE
SUMMARY:Camp Hope
DESCRIPTION:Camp Hope is a day camp for children 6-17 who have experienced the loss of a loved one. For more information\, visit our website https://www.hospiceofnorthcentralohio.org
X-ALT-DESC;FMTTYPE=text/html:Camp Hope is a day camp for children 6-17 who have experienced the loss of a loved one. For more information\, visit our website https://www.hospiceofnorthcentralohio.org
LOCATION:Pleasant Hill Outdoor Camp
UID:e.2893.3657
SEQUENCE:3
DTSTAMP:20260422T074152Z
URL:http://knoxchamber.smartcms.site/events/details/camp-hope-3657
END:VEVENT

END:VCALENDAR
