BEGIN:VCALENDAR
VERSION:2.0
PRODID:-//ChamberMaster//Event Calendar 2.0//EN
METHOD:PUBLISH
X-PUBLISHED-TTL:P3D
REFRESH-INTERVAL:P3D
CALSCALE:GREGORIAN
BEGIN:VEVENT
DTSTART:20180202T023000Z
DTEND:20180202T033000Z
X-MICROSOFT-CDO-ALLDAYEVENT:FALSE
SUMMARY:BWC’s Better You\, Better Ohio
DESCRIPTION:Want to start an employee health and wellness program at NO COST to you?\n\n\n\nLearn more about BWC's Better You\, Better Ohio!\n\nThe Ohio Bureau of Workers' Compensation (BWC)\n\ntakes our mission to take care of Ohio's workforce\n\nseriously. That's why\, on Feb. 1\, 2018\, we're launching\n\nour new health and well-being program   Better You\,\n\nBetter Ohio!\n\nThe program helps Ohio employers with 50 or fewer\n\nemployees in certain industries* start a comprehensive\n\nwellness program with no cost to them or their\n\nworkers when they join. And\, it's a simple and paperwork-\n\nfree process.\n\nIn conjunction with ActiveHealth  Management\,\n\nBetter You\, Better Ohio! brings your employees a\n\nwealth of health and well-being resources\, including:\n\n  A snapshot of their health and well-being\;\n\n  Simple\, convenient digital tools\;\n\n  Lifestyle and condition coaching\;\n\n  A 24-hour nurse line.\n\nHaving a healthy workforce gives employers the\n\nability to focus on their businesses and manage their\n\nworkers' compensation and health-care costs. Better\n\nYou\, Better Ohio! can:\n\n  Help prevent injuries through improved workforce\n\nhealth\;\n\n  Reduce the severity of an injury\;\n\n  Increase the speed of recovery from an injury\;\n\n  Reduce time away from work due to an injury.
X-ALT-DESC;FMTTYPE=text/html:Want to start an employee health and wellness program at NO COST to you?<br />\n<br />\nLearn more about BWC&rsquo\;s Better You\, Better Ohio!<br />\nThe Ohio Bureau of Workers&rsquo\; Compensation (BWC)<br />\ntakes our mission to take care of Ohio&rsquo\;s workforce<br />\nseriously. That&rsquo\;s why\, on Feb. 1\, 2018\, we&rsquo\;re launching<br />\nour new health and well-being program &ndash\; Better You\,<br />\nBetter Ohio!<br />\nThe program helps Ohio employers with 50 or fewer<br />\nemployees in certain industries* start a comprehensive<br />\nwellness program with no cost to them or their<br />\nworkers when they join. And\, it&rsquo\;s a simple and paperwork-<br />\nfree process.<br />\nIn conjunction with ActiveHealth&reg\; Management\,<br />\nBetter You\, Better Ohio! brings your employees a<br />\nwealth of health and well-being resources\, including:<br />\n&bull\; A snapshot of their health and well-being\;<br />\n&bull\; Simple\, convenient digital tools\;<br />\n&bull\; Lifestyle and condition coaching\;<br />\n&bull\; A 24-hour nurse line.<br />\nHaving a healthy workforce gives employers the<br />\nability to focus on their businesses and manage their<br />\nworkers&rsquo\; compensation and health-care costs. Better<br />\nYou\, Better Ohio! can:<br />\n&bull\; Help prevent injuries through improved workforce<br />\nhealth\;<br />\n&bull\; Reduce the severity of an injury\;<br />\n&bull\; Increase the speed of recovery from an injury\;<br />\n&bull\; Reduce time away from work due to an injury.
LOCATION:Public Library of Mount Vernon/Knox 201 North Mulberry Street Mt. Vernon
UID:e.2893.2547
SEQUENCE:3
DTSTAMP:20260422T141902Z
URL:http://knoxchamber.smartcms.site/events/details/bwc-s-better-you-better-ohio-2547
END:VEVENT

END:VCALENDAR
