BEGIN:VCALENDAR
VERSION:2.0
PRODID:-//ChamberMaster//Event Calendar 2.0//EN
METHOD:PUBLISH
X-PUBLISHED-TTL:P3D
REFRESH-INTERVAL:P3D
CALSCALE:GREGORIAN
BEGIN:VEVENT
DTSTART:20190709T120000Z
DTEND:20190709T130000Z
X-MICROSOFT-CDO-ALLDAYEVENT:FALSE
SUMMARY:Business Boost Breakfast
DESCRIPTION:Held Three times a year. This event includes opportunities to:\n\n	Form relationships that will boost your business.\n	Meet fellow chamber members and staff.\n\n  Be sure to bring approximately 40 business cards for distribution.  You may also bring brochures and promotional items.  A special area will be set up to display your materials.  This venue is designed to showcase you and your business.\n\n\n\nAttendees will be up moving around and participate in an engaging activity.  This event is perfect for true networking so get your elevator speech ready.  The activity is different each time so attend all three scheduled each year for a fun and productive occasion to increase your contacts and customers.
X-ALT-DESC;FMTTYPE=text/html:<span style="font-size:14px\;"><span style="font-family:tahoma\;"><span style="color: rgb(51\, 51\, 51)\; background-color: rgb(255\, 255\, 255)\;">Held Three times a year. This event includes opportunities to:</span></span></span>\n<ul style="padding: 0px 40px\; color: rgb(51\, 51\, 51)\; font-family: sans-serif\, Arial\, Verdana\, &quot\;Trebuchet MS&quot\;\; font-size: 13px\;">\n	<li><span style="font-size:14px\;"><span style="font-family:tahoma\;">Form relationships that will boost your business.</span></span></li>\n	<li><span style="font-size:14px\;"><span style="font-family:tahoma\;">Meet fellow chamber members and staff.</span></span></li>\n</ul>\n<span style="font-size:14px\;"> <span style="font-family:tahoma\;"> Be sure to <strong>bring approximately 40 business cards</strong> for distribution.&nbsp\; You may also <strong>bring brochures and promotional items</strong>.&nbsp\; A special area will be set up to display your materials.&nbsp\; This venue is designed to showcase you and your business.<br />\n<br />\nAttendees will be up moving around and participate in an engaging activity.&nbsp\; This event is perfect for true networking so get your elevator speech ready.&nbsp\; The activity is different each time so attend all three scheduled each year for a fun and productive occasion to increase your contacts and customers.</span></span>
LOCATION:Lasater Family Center 11337 Upper Gilchrist Road Mount Vernon\, Ohio
UID:e.2893.4241
SEQUENCE:3
DTSTAMP:20260421T084840Z
URL:http://knoxchamber.smartcms.site/events/details/business-boost-breakfast-4241
END:VEVENT

END:VCALENDAR
