BEGIN:VCALENDAR
VERSION:2.0
PRODID:-//ChamberMaster//Event Calendar 2.0//EN
METHOD:PUBLISH
X-PUBLISHED-TTL:P3D
REFRESH-INTERVAL:P3D
CALSCALE:GREGORIAN
BEGIN:VEVENT
DTSTART:20191008T120000Z
DTEND:20191008T130000Z
X-MICROSOFT-CDO-ALLDAYEVENT:FALSE
SUMMARY:Business Boost Breakfast
DESCRIPTION:Held the 2nd Tuesday three times a year. This event includes opportunities to:\n\n	Form relationships that will boost your business.\n	Meet fellow chamber members and staff.\n	Teach us how to be the best ally for your business.
X-ALT-DESC;FMTTYPE=text/html:<span style="color: rgb(51\, 51\, 51)\; font-family: sans-serif\, Arial\, Verdana\, &quot\;Trebuchet MS&quot\;\; font-size: 13px\; background-color: rgb(255\, 255\, 255)\;">Held the&nbsp\;2nd&nbsp\;Tuesday three times a year. This event includes opportunities to:</span>\n<ul style="padding: 0px 40px\; color: rgb(51\, 51\, 51)\; font-family: sans-serif\, Arial\, Verdana\, &quot\;Trebuchet MS&quot\;\; font-size: 13px\;">\n	<li>Form relationships that will boost your business.</li>\n	<li>Meet fellow chamber members and staff.</li>\n	<li>Teach us how to be the best ally for your business.</li>\n</ul>\n
LOCATION:Lasater Family Center 11334 Upper Gilchrist Road
UID:e.2893.4240
SEQUENCE:3
DTSTAMP:20260421T040838Z
URL:http://knoxchamber.smartcms.site/events/details/business-boost-breakfast-4240
END:VEVENT

END:VCALENDAR
