BEGIN:VCALENDAR
VERSION:2.0
PRODID:-//ChamberMaster//Event Calendar 2.0//EN
METHOD:PUBLISH
X-PUBLISHED-TTL:P3D
REFRESH-INTERVAL:P3D
CALSCALE:GREGORIAN
BEGIN:VEVENT
DTSTART:20170711T210000Z
DTEND:20170711T220000Z
X-MICROSOFT-CDO-ALLDAYEVENT:FALSE
SUMMARY:Business After Hours - Woodforest National Bank
DESCRIPTION:Join us on July 11th beginning at 5:00pm for a Business After Hours at Woodforest National Bank!
X-ALT-DESC;FMTTYPE=text/html:Join us on July 11th beginning at 5:00pm for a Business After Hours at Woodforest National Bank!&nbsp\;
LOCATION:1575 Coshocton Avenue\, Mount Vernon (Inside Walmart)
UID:e.2893.1388
SEQUENCE:3
DTSTAMP:20260423T063309Z
URL:http://knoxchamber.smartcms.site/events/details/business-after-hours-woodforest-national-bank-1388
END:VEVENT

END:VCALENDAR
