BEGIN:VCALENDAR
VERSION:2.0
PRODID:-//ChamberMaster//Event Calendar 2.0//EN
METHOD:PUBLISH
X-PUBLISHED-TTL:P3D
REFRESH-INTERVAL:P3D
CALSCALE:GREGORIAN
BEGIN:VEVENT
DTSTART:20170613T210000Z
DTEND:20170613T220000Z
X-MICROSOFT-CDO-ALLDAYEVENT:FALSE
SUMMARY:Business After Hours - Richardson Glass
DESCRIPTION:Join us on Tuesday\, June 13th at Richardson Glass for a Business After Hours!
X-ALT-DESC;FMTTYPE=text/html:Join us on Tuesday\, June 13th at Richardson Glass for a Business After Hours!&nbsp\;
LOCATION:504 Harcourt Road # A\, Mount Vernon
UID:e.2893.1384
SEQUENCE:3
DTSTAMP:20260423T063312Z
URL:http://knoxchamber.smartcms.site/events/details/business-after-hours-richardson-glass-1384
END:VEVENT

END:VCALENDAR
