BEGIN:VCALENDAR
VERSION:2.0
PRODID:-//ChamberMaster//Event Calendar 2.0//EN
METHOD:PUBLISH
X-PUBLISHED-TTL:P3D
REFRESH-INTERVAL:P3D
CALSCALE:GREGORIAN
BEGIN:VEVENT
DTSTART:20170516T210000Z
DTEND:20170516T220000Z
X-MICROSOFT-CDO-ALLDAYEVENT:FALSE
SUMMARY:Business After Hours - Buffalo Wild Wings
DESCRIPTION:Join us at Buffalo Wild Wings on May 16\, 2017 from 5:00 to 6:00 for a Business After Hours!
X-ALT-DESC;FMTTYPE=text/html:Join us at Buffalo Wild Wings on May 16\, 2017 from 5:00 to 6:00 for a Business After Hours!&nbsp\;
LOCATION:Buffalo Wild Wings 907 Coshocton Avenue\, Mount Vernon
UID:e.2893.1371
SEQUENCE:3
DTSTAMP:20260423T075627Z
URL:http://knoxchamber.smartcms.site/events/details/business-after-hours-buffalo-wild-wings-1371
END:VEVENT

END:VCALENDAR
