BEGIN:VCALENDAR
VERSION:2.0
PRODID:-//ChamberMaster//Event Calendar 2.0//EN
METHOD:PUBLISH
X-PUBLISHED-TTL:P3D
REFRESH-INTERVAL:P3D
CALSCALE:GREGORIAN
BEGIN:VEVENT
DTSTART:20170919T210000Z
DTEND:20170919T220000Z
X-MICROSOFT-CDO-ALLDAYEVENT:FALSE
SUMMARY:Business After Hours - Buckeye Stoves
DESCRIPTION:Join us on September 19th for a Business After Hours at Buckeye Stoves!
X-ALT-DESC;FMTTYPE=text/html:Join us on September 19th&nbsp\;for a Business After Hours at Buckeye Stoves!&nbsp\;
LOCATION:236 West Sandusky Street\, Fredericktown
UID:e.2893.1471
SEQUENCE:3
DTSTAMP:20260422T225930Z
URL:http://knoxchamber.smartcms.site/events/details/business-after-hours-buckeye-stoves-1471
END:VEVENT

END:VCALENDAR
