BEGIN:VCALENDAR
VERSION:2.0
PRODID:-//ChamberMaster//Event Calendar 2.0//EN
METHOD:PUBLISH
X-PUBLISHED-TTL:P3D
REFRESH-INTERVAL:P3D
CALSCALE:GREGORIAN
BEGIN:VEVENT
DTSTART:20210710T130000Z
DTEND:20210710T190000Z
X-MICROSOFT-CDO-ALLDAYEVENT:FALSE
SUMMARY:Buckeye Stove Customer Appreciation & Open House
DESCRIPTION:Buckeye BBQ\n\n                      Bring your appetite!\n\nCooking demos all day. On wood\, gas\, pellets and charcoal.\n\nDoor prizes\, Games and Free Food.\n\nEverything in Store is on SALE\n\n\n\nClick here for flyer
X-ALT-DESC;FMTTYPE=text/html:<span style="font-size:14px\;"><strong><span style="font-size:16px\;">&nbsp\; &nbsp\; &nbsp\; &nbsp\; <span style="font-size:18px\;">&nbsp\; &nbsp\;</span></span><span style="font-size:18px\;"> &nbsp\; &nbsp\; <span style="font-size:36px\;">&nbsp\; Buckeye BBQ</span></span></strong><br />\n&nbsp\; &nbsp\; &nbsp\; &nbsp\; &nbsp\; &nbsp\; &nbsp\; &nbsp\;&nbsp\;<span style="font-size:26px\;"><em><span style="color:#FF0000\;"><strong>&nbsp\; &nbsp\; &nbsp\;&nbsp\;<span style="font-size:22px\;">Bring your appetite!</span></strong></span></em></span><br />\n<span style="font-size:20px\;">Cooking demos all day. On wood\, gas\, pellets and charcoal.</span><br />\n<strong><span style="font-size:20px\;">Door prizes\, Games and Free Food.<br />\nEverything in Store is on SALE</span><br />\n<br />\n<a href="https://chambermaster.blob.core.windows.net/userfiles/UserFiles/chambers/2893/File/BuckeyestovesBBQopenhouseflyer.pdf"><span style="color:#0000FF\;">Click here for flyer</span></a></strong></span>
LOCATION:Buckeye Stoves 236 West Sandusky Street Fredericktown\, Ohio 43019
UID:e.2893.4872
SEQUENCE:3
DTSTAMP:20260419T175159Z
URL:http://knoxchamber.smartcms.site/events/details/buckeye-stove-customer-appreciation-open-house-4872
END:VEVENT

END:VCALENDAR
