BEGIN:VCALENDAR
VERSION:2.0
PRODID:-//ChamberMaster//Event Calendar 2.0//EN
METHOD:PUBLISH
X-PUBLISHED-TTL:P3D
REFRESH-INTERVAL:P3D
CALSCALE:GREGORIAN
BEGIN:VEVENT
DTSTART:20180324T130000Z
DTEND:20180324T150000Z
X-MICROSOFT-CDO-ALLDAYEVENT:FALSE
SUMMARY:Breakfast with the Easter Bunny
DESCRIPTION:Buffet style breakfast with the Easter Bunny
X-ALT-DESC;FMTTYPE=text/html:Buffet style breakfast with the Easter Bunny
LOCATION:Country Club Retirement Campus II 1350 Yauger Rd. Mount Vernon
UID:e.2893.3620
SEQUENCE:3
DTSTAMP:20260422T123400Z
URL:http://knoxchamber.smartcms.site/events/details/breakfast-with-the-easter-bunny-3620
END:VEVENT

END:VCALENDAR
