BEGIN:VCALENDAR
VERSION:2.0
PRODID:-//ChamberMaster//Event Calendar 2.0//EN
METHOD:PUBLISH
X-PUBLISHED-TTL:P3D
REFRESH-INTERVAL:P3D
CALSCALE:GREGORIAN
BEGIN:VEVENT
DTSTART:20180320T160000Z
DTEND:20180320T170000Z
X-MICROSOFT-CDO-ALLDAYEVENT:FALSE
SUMMARY:Brand Your Business\; Learn how to make your business stand out across all forms of media
DESCRIPTION:Brand Your Business\;\n\nLearn how to make your business stand out across all forms of media\n\n\n\nWho should attend?\n\nThis event is for business owners and marketing professionals looking to gain a better understanding of your brand and how to build your brand through different advertising channels.\n\n\n\nLunch will be provided.\n\n\n\nPresented by Liamer Media\n\nBranding Specialist Joshua Randell\n\nJoshua Randell is co-founder of Liamer Media\, a digital media company specializing in web design\, video and social media marketing. Liamer Media works with hundreds of companies\, non-profits and individuals throughout Northwest Ohio to help brand them by first defining who they are and second how they communicate their brand to others. He brings extensive experience in buying and utilizing every type of advertising from TV to radio to print to digital media. Josh understands the importance of how each of these media play a role in building your brand. You'll find that Josh is up-to-date on all the latest trends and technologies that can help you Brand\, Build and Grow your business. \n\n\n\nClick here to register.
X-ALT-DESC;FMTTYPE=text/html:<span style="font-size:22px\;"><strong>Brand Your Business\;</strong></span><br />\n<span style="font-size:14px\;"><em>Learn how to make your business stand out across all forms of media</em></span><br />\n<br />\n<strong>Who should attend?</strong><br />\nThis event is for business owners and marketing professionals looking to gain a better understanding of your brand and how to build your brand through different advertising channels.<br />\n<br />\n<strong>Lunch will be provided.</strong><br />\n<br />\n<strong>Presented by Liamer Media<br />\n<em>Branding Specialist Joshua Randell</em></strong><br />\nJoshua Randell is co-founder of Liamer Media\, a digital media company specializing in web design\, video and social media marketing. Liamer Media works with hundreds of companies\, non-profits and individuals throughout Northwest Ohio to help brand them by first defining who they are and second how they communicate their brand to others. He brings extensive experience in buying and utilizing every type of advertising from TV to radio to print to digital media. Josh understands the importance of how each of these media play a role in building your brand. You&#39\;ll find that Josh is up-to-date on all the latest trends and technologies that can help you Brand\, Build and Grow your business.&nbsp\;<br />\n<br />\n<a href="http://events.constantcontact.com/register/event?llr=ksoytxjab&amp\;oeidk=a07ef60xf1c2366e3fd">Click here to register.</a>
LOCATION:Gallagher Centre 1451 Gambier Road Mount Vernon\, Ohio 43050
UID:e.2893.2602
SEQUENCE:3
DTSTAMP:20260422T142241Z
URL:http://knoxchamber.smartcms.site/events/details/brand-your-business-learn-how-to-make-your-business-stand-out-across-all-forms-of-media-2602
END:VEVENT

END:VCALENDAR
