BEGIN:VCALENDAR
VERSION:2.0
PRODID:-//ChamberMaster//Event Calendar 2.0//EN
METHOD:PUBLISH
X-PUBLISHED-TTL:P3D
REFRESH-INTERVAL:P3D
CALSCALE:GREGORIAN
BEGIN:VEVENT
DTSTART:20170330T120000Z
DTEND:20170330T200000Z
X-MICROSOFT-CDO-ALLDAYEVENT:FALSE
SUMMARY:Boots to Business
DESCRIPTION:Date: Thursday\, March 30\, 2017\n\nTime: 8:00 a.m. - 4:00 p.m.\n\n\n	\n		\n			On March 30\, 2017\, Boots to Business Reboot is coming to the Columbus area. Veterans\, service members and spouses are urged to take advantage of this entrepreneurial training program offered by the U.S. Small Business Administration. \n\n			Veterans have the character\, discipline and skills needed to succeed as small business owners and entrepreneurs. Boots to Business Reboot gives you the tools to get started by offering participants valuable business skills and tips. The course is taught by industry experts\, top professors and officials from the U.S. Small Business Administration. \n\n			Wondering what it takes and how you can prepare to be a small business owner? Register Now!\n\n			For more information\, contact Matt Sherwood at Matt@vetbizcentral.org or 810-767-8387.
X-ALT-DESC;FMTTYPE=text/html:&nbsp\;\n<h1 style="line-height: 18.75pt\;"><span style="color: rgb(81\, 99\, 149)\;"><span style="font-size: 18pt\;">Date: Thursday\, March 30\, 2017</span></span></h1>\n\n<h1 style="line-height: 18.75pt\;"><span style="color: rgb(81\, 99\, 149)\;"><span style="font-size: 18pt\;">Time: 8:00 a.m. - 4:00 p.m.</span></span></h1>\n\n<table border="0" cellpadding="0" cellspacing="0" style="width:606px\;background-image:initial\;background-position:initial\;background-size:initial\;background-repeat:initial\;background-attachment:initial\;background-origin:initial\;background-clip:initial\;border-collapse:collapse\;" width="606">\n	<tbody>\n		<tr>\n			<td style="width:594px\;border-top:solid #F6F6F6 4.5pt\;border-left:none\;border-bottom:solid #F6F6F6 4.5pt\;border-right:none\;padding:0in 0in 0in 0in\;"><span style="color:#0A1A1F\;"><span style="font-family:arial\,sans-serif\;"><span style="font-size:10.5pt\;">On March 30\, 2017\, Boots to Business Reboot is coming to the Columbus area. Veterans\, service members and spouses are urged to take advantage of this entrepreneurial training program offered by the U.S. Small Business Administration.&nbsp\;</span></span></span><br>\n			<span style="color:#0A1A1F\;"><span style="font-family:arial\,sans-serif\;"><span style="font-size:10.5pt\;">Veterans have the character\, discipline and skills needed to succeed as small business owners and entrepreneurs. Boots to Business Reboot gives you the tools to get started by offering participants valuable business skills and tips. The course is taught by industry experts\, top professors and officials from the U.S. Small Business Administration.&nbsp\;</span></span></span><br>\n			<span style="color:#0A1A1F\;"><span style="font-family:arial\,sans-serif\;"><span style="font-size:10.5pt\;">Wondering what it takes and how you can prepare to be a small business owner? <a href="http://links.govdelivery.com:80/track?type=click&amp\;enid=ZWFzPTEmbWFpbGluZ2lkPTIwMTcwMjI0LjcwNDA4ODQxJm1lc3NhZ2VpZD1NREItUFJELUJVTC0yMDE3MDIyNC43MDQwODg0MSZkYXRhYmFzZWlkPTEwMDEmc2VyaWFsPTE3MTI1MzQ1JmVtYWlsaWQ9cHJvZ3JhbXNAa25veGNoYW1iZXIuY29tJnVzZXJpZD1wcm9ncmFtc0Brbm94Y2hhbWJlci5jb20mZmw9JmV4dHJhPU11bHRpdmFyaWF0ZUlkPSYmJg==&amp\;&amp\;&amp\;102&amp\;&amp\;&amp\;http://boots2business.org/rebootapply/?utm_medium=email&amp\;utm_source=govdelivery"><strong>Register Now!</strong></a></span></span></span><br>\n			<span style="color:#0A1A1F\;"><span style="font-family:arial\,sans-serif\;"><span style="font-size:10.5pt\;">For more information\, contact Matt Sherwood at <a href="mailto:Matt@vetbizcentral.org">Matt@vetbizcentral.org</a> or 810-767-8387.&nbsp\;</span></span></span></td>\n			<td style="width:5px\;border:solid #F6F6F6 4.5pt\;border-left:none\;padding:0in 0in 0in 0in\;">&nbsp\;</td>\n		</tr>\n	</tbody>\n</table>\n
LOCATION:Location: American Legion\, 60 Big Run Road\, Delaware\, OH 43015
UID:e.2893.1292
SEQUENCE:3
DTSTAMP:20260423T112232Z
URL:http://knoxchamber.smartcms.site/events/details/boots-to-business-1292
END:VEVENT

END:VCALENDAR
