BEGIN:VCALENDAR
VERSION:2.0
PRODID:-//ChamberMaster//Event Calendar 2.0//EN
METHOD:PUBLISH
X-PUBLISHED-TTL:P3D
REFRESH-INTERVAL:P3D
CALSCALE:GREGORIAN
BEGIN:VEVENT
DTSTART:20200229T190000Z
DTEND:20200229T203000Z
X-MICROSOFT-CDO-ALLDAYEVENT:FALSE
SUMMARY:Book Talk
DESCRIPTION:Lois Hanson will read from her book Our Worthy Townsmen: The Forgotten Lives of Mount Vernon's Jewish Families - 1827 - 1920
X-ALT-DESC;FMTTYPE=text/html:Lois Hanson will read from her book Our Worthy Townsmen: The Forgotten Lives of Mount Vernon&#39\;s Jewish Families - 1827 - 1920
LOCATION:Paragraphs Bookstore
UID:e.2893.4736
SEQUENCE:3
DTSTAMP:20260420T225628Z
URL:http://knoxchamber.smartcms.site/events/details/book-talk-4736
END:VEVENT

END:VCALENDAR
