BEGIN:VCALENDAR
VERSION:2.0
PRODID:-//ChamberMaster//Event Calendar 2.0//EN
METHOD:PUBLISH
X-PUBLISHED-TTL:P3D
REFRESH-INTERVAL:P3D
CALSCALE:GREGORIAN
BEGIN:VEVENT
DTSTART:20191023T160000Z
DTEND:20191023T220000Z
X-MICROSOFT-CDO-ALLDAYEVENT:FALSE
SUMMARY:Blood Drive Hosted by e-Merge Real Estate
DESCRIPTION:Blood Drive at the e-Merge Real Estate office.
X-ALT-DESC;FMTTYPE=text/html:Blood Drive at the e-Merge Real Estate office.&nbsp\;
LOCATION:e-Merge\, 110 Coshocton Avenue\, Suite A Enter at rear of building off of Chestnut Street.
UID:e.2893.4617
SEQUENCE:3
DTSTAMP:20260421T041218Z
URL:http://knoxchamber.smartcms.site/events/details/blood-drive-hosted-by-e-merge-real-estate-4617
END:VEVENT

END:VCALENDAR
