BEGIN:VCALENDAR
VERSION:2.0
PRODID:-//ChamberMaster//Event Calendar 2.0//EN
METHOD:PUBLISH
X-PUBLISHED-TTL:P3D
REFRESH-INTERVAL:P3D
CALSCALE:GREGORIAN
BEGIN:VEVENT
DTSTART:20200416T160000Z
DTEND:20200416T220000Z
X-MICROSOFT-CDO-ALLDAYEVENT:FALSE
SUMMARY:Blood Drive Hosted by e-Merge Real Estate
DESCRIPTION:Blood Drive at the E-Merge Real estate Offices. \n\n\n\n12/26\n\n2/20\n\n4/16\n\n6/18\n\n8/14\n\n10/14\n\n12/22
X-ALT-DESC;FMTTYPE=text/html:Blood Drive at the E-Merge Real estate Offices.&nbsp\;<br />\n<br />\n12/26<br />\n2/20<br />\n4/16<br />\n6/18<br />\n8/14<br />\n10/14<br />\n12/22<br />\n&nbsp\;
LOCATION:110 Coshocton Avenue\, Suite 1=A
UID:e.2893.4710
SEQUENCE:3
DTSTAMP:20260420T182857Z
URL:http://knoxchamber.smartcms.site/events/details/blood-drive-hosted-by-e-merge-real-estate-04-23-2020-4710
END:VEVENT

END:VCALENDAR
