BEGIN:VCALENDAR
VERSION:2.0
PRODID:-//ChamberMaster//Event Calendar 2.0//EN
METHOD:PUBLISH
X-PUBLISHED-TTL:P3D
REFRESH-INTERVAL:P3D
CALSCALE:GREGORIAN
BEGIN:VEVENT
DTSTART:20190903T223000Z
DTEND:20190904T003000Z
X-MICROSOFT-CDO-ALLDAYEVENT:FALSE
SUMMARY:Birding the Americas: Inspiration\, Intrigue\, & Birds
DESCRIPTION:Carson Miller retired from the world of academia and got hooked on birding. His photography skills allowed him to document his birding adventures particularly in North\, Central\, and South America and many other beautiful places. Join us for an evening of intriguing stories and inspirational photos! Meet in the Resource Center.
X-ALT-DESC;FMTTYPE=text/html:Carson Miller retired from the world of academia and got hooked on birding. His photography skills allowed him to document his birding adventures particularly in North\, Central\, and South America and many other beautiful places. Join us for an evening of intriguing stories and inspirational photos! Meet in the Resource Center.
LOCATION:Brown Family Environmental Center
UID:e.2893.4361
SEQUENCE:3
DTSTAMP:20260421T053716Z
URL:http://knoxchamber.smartcms.site/events/details/birding-the-americas-inspiration-intrigue-birds-4361
END:VEVENT

END:VCALENDAR
