BEGIN:VCALENDAR
VERSION:2.0
PRODID:-//ChamberMaster//Event Calendar 2.0//EN
METHOD:PUBLISH
X-PUBLISHED-TTL:P3D
REFRESH-INTERVAL:P3D
CALSCALE:GREGORIAN
BEGIN:VEVENT
DTSTART:20161105T113000Z
DTEND:20161105T113000Z
X-MICROSOFT-CDO-ALLDAYEVENT:FALSE
SUMMARY:Birding During Fall Migration
DESCRIPTION:Join us to see what kinds of birds are taking advantage of BFEC habitats during fall migration. We will begin inside learning the basics of bird ID\, then we'll head outside to see what we can find!
X-ALT-DESC;FMTTYPE=text/html:Join us to see what kinds of birds are taking advantage of BFEC habitats during fall migration. We will begin inside learning the basics of bird ID\, then we&#39\;ll head outside to see what we can find!
LOCATION:9781 Laymon Rd\, Gambier\, OH 43022
UID:e.2893.935
SEQUENCE:3
DTSTAMP:20260423T192509Z
URL:http://knoxchamber.smartcms.site/events/details/birding-during-fall-migration-11-05-2016-935
END:VEVENT

END:VCALENDAR
