BEGIN:VCALENDAR
VERSION:2.0
PRODID:-//ChamberMaster//Event Calendar 2.0//EN
METHOD:PUBLISH
X-PUBLISHED-TTL:P3D
REFRESH-INTERVAL:P3D
CALSCALE:GREGORIAN
BEGIN:VEVENT
DTSTART:20190511T120000Z
DTEND:20190511T140000Z
X-MICROSOFT-CDO-ALLDAYEVENT:FALSE
SUMMARY:Bird Walk
DESCRIPTION:Join us for an easy stroll through a portion of BFEC property and along the Kokosing Gap Trail to search for and identify birds. Focus will be visual ID\, behaviors\, and niche preferences. All experience levels welcome. Bring your own field guide and binoculars\, or use ours if you're a beginner. Jake Peer\, Wildlife Specialist for Knox County Soil and Water\, will be leading this adventure. Meet at the BFEC Resource Center.
X-ALT-DESC;FMTTYPE=text/html:Join us for an easy stroll through a portion of BFEC property and along the Kokosing Gap Trail to search for and identify birds. Focus will be visual ID\, behaviors\, and niche preferences. All experience levels welcome. Bring your own field guide and binoculars\, or use ours if you&#39\;re a beginner. Jake Peer\, Wildlife Specialist for Knox County Soil and Water\, will be leading this adventure. Meet at the BFEC Resource Center.
LOCATION:Brown Family Environmental Center
UID:e.2893.4275
SEQUENCE:3
DTSTAMP:20260421T132559Z
URL:http://knoxchamber.smartcms.site/events/details/bird-walk-05-11-2019-4275
END:VEVENT

END:VCALENDAR
