BEGIN:VCALENDAR
VERSION:2.0
PRODID:-//ChamberMaster//Event Calendar 2.0//EN
METHOD:PUBLISH
X-PUBLISHED-TTL:P3D
REFRESH-INTERVAL:P3D
CALSCALE:GREGORIAN
BEGIN:VEVENT
DTSTART:20190831T180000Z
DTEND:20190831T200000Z
X-MICROSOFT-CDO-ALLDAYEVENT:FALSE
SUMMARY:Big Problems for a Little Fish: Redside Dace in Canada & U.S.
DESCRIPTION:Redside dace (Clinostomus elongatus) are endangered in Canada but populations in Ohio are healthy. One hypothesis for their decline in Canada is the warming of stream water temperature due to urbanization. Two grad students from Windsor University spent the summer in Ohio doing research. Learn about their findings and the plight of this little fish in Canada. Meet at the Resource Center.
X-ALT-DESC;FMTTYPE=text/html:Redside dace (Clinostomus elongatus) are endangered in Canada but populations in Ohio are healthy. One hypothesis for their decline in Canada is the warming of stream water temperature due to urbanization. Two grad students from Windsor University spent the summer in Ohio doing research. Learn about their findings and the plight of this little fish in Canada. Meet at the Resource Center.
LOCATION:Brown Family Environmental Center
UID:e.2893.4360
SEQUENCE:3
DTSTAMP:20260421T070348Z
URL:http://knoxchamber.smartcms.site/events/details/big-problems-for-a-little-fish-redside-dace-in-canada-u-s-4360
END:VEVENT

END:VCALENDAR
