BEGIN:VCALENDAR
VERSION:2.0
PRODID:-//ChamberMaster//Event Calendar 2.0//EN
METHOD:PUBLISH
X-PUBLISHED-TTL:P3D
REFRESH-INTERVAL:P3D
CALSCALE:GREGORIAN
BEGIN:VEVENT
DTSTART:20171014T180000Z
DTEND:20171014T210000Z
X-MICROSOFT-CDO-ALLDAYEVENT:FALSE
SUMMARY:BFEC Fall Harvest Festival
DESCRIPTION:Celebrate the season with this FREE family event. Activities include wagon rides\, live music\, kids' harvest races\, farm animals and produce\, bonfire\, cider press\, pumpkin decorating with OSU Extension Master Gardeners\, and the Knox County Nature Photography Contest show.
X-ALT-DESC;FMTTYPE=text/html:Celebrate the season with this FREE family event. Activities include wagon rides\, live music\, kids&rsquo\; harvest races\, farm animals and produce\, bonfire\, cider press\, pumpkin decorating with OSU Extension Master Gardeners\, and the Knox County Nature Photography Contest show.
LOCATION:Brown Family Environmental Center 9781 Laymon Rd. Gambier\, OH 43022
UID:e.2893.1457
SEQUENCE:3
DTSTAMP:20260422T225846Z
URL:http://knoxchamber.smartcms.site/events/details/bfec-fall-harvest-festival-1457
END:VEVENT

END:VCALENDAR
