BEGIN:VCALENDAR
VERSION:2.0
PRODID:-//ChamberMaster//Event Calendar 2.0//EN
METHOD:PUBLISH
X-PUBLISHED-TTL:P3D
REFRESH-INTERVAL:P3D
CALSCALE:GREGORIAN
BEGIN:VEVENT
DTSTART:20181020T160000Z
DTEND:20181020T200000Z
X-MICROSOFT-CDO-ALLDAYEVENT:FALSE
SUMMARY:BFEC Fall Harvest Festival
DESCRIPTION:Kenyon College will be hosting the BFEC Fall Harvest Festival!\n\n\n\nCelebrate the season with this free family event!   \n\n \n\nActivities include wagon rides\, live music\, children's harvest races\, farm animals and produce\, a campfire\,  a cider press\, pumpkin decorating with OSU Extension master gardeners and the Knox County Nature Photography Contest exhibition.
X-ALT-DESC;FMTTYPE=text/html:<p style="box-sizing: border-box\; transition: background-color 0.1s linear 0s\, border-color 0.1s linear 0s\, color 0.1s linear 0s\, opacity 0.1s linear 0s\; margin: 0px\; padding: 0px\; line-height: 1.2\; border: 0px\; font-variant-numeric: inherit\; font-variant-east-asian: inherit\; font-stretch: inherit\; font-family: minion-pro\, Georgia\, serif\; font-size: 14px\; vertical-align: baseline\; color: rgb(50\, 56\, 57)\; background-color: rgb(250\, 250\, 250)\;"><span style="font-size:16px\;">Kenyon College will be hosting the BFEC Fall Harvest Festival!<br />\n<br />\nCelebrate the season with this&nbsp\;<span style="box-sizing: border-box\; transition: background-color 0.1s linear 0s\, border-color 0.1s linear 0s\, color 0.1s linear 0s\, opacity 0.1s linear 0s\; font-weight: 600\; border: 0px\; font-style: inherit\; font-variant: inherit\; font-stretch: inherit\; line-height: inherit\; margin: 0px\; padding: 0px\; vertical-align: baseline\;">free&nbsp\;</span>family event! &nbsp\;&nbsp\;</span></p>\n\n<p style="box-sizing: border-box\; transition: background-color 0.1s linear 0s\, border-color 0.1s linear 0s\, color 0.1s linear 0s\, opacity 0.1s linear 0s\; margin: 0px\; padding: 0px\; line-height: 1.2\; border: 0px\; font-variant-numeric: inherit\; font-variant-east-asian: inherit\; font-stretch: inherit\; font-family: minion-pro\, Georgia\, serif\; font-size: 14px\; vertical-align: baseline\; color: rgb(50\, 56\, 57)\; background-color: rgb(250\, 250\, 250)\;">&nbsp\;</p>\n\n<p style="box-sizing: border-box\; transition: background-color 0.1s linear 0s\, border-color 0.1s linear 0s\, color 0.1s linear 0s\, opacity 0.1s linear 0s\; margin: 0px\; padding: 0px\; line-height: 1.2\; border: 0px\; font-variant-numeric: inherit\; font-variant-east-asian: inherit\; font-stretch: inherit\; font-family: minion-pro\, Georgia\, serif\; font-size: 14px\; vertical-align: baseline\; color: rgb(50\, 56\, 57)\; background-color: rgb(250\, 250\, 250)\;"><span style="font-size:16px\;">Activities include wagon rides\, live music\, children&#39\;s harvest races\, farm animals and produce\, a campfire\, &nbsp\;a cider press\, pumpkin decorating with OSU Extension master gardeners and the&nbsp\;<em><u style="box-sizing: border-box\; transition: background-color 0.1s linear 0s\, border-color 0.1s linear 0s\, color 0.1s linear 0s\, opacity 0.1s linear 0s\; border: 0px\; font-style: inherit\; font-variant: inherit\; font-weight: inherit\; font-stretch: inherit\; line-height: inherit\; font-family: inherit\; margin: 0px\; padding: 0px\; vertical-align: baseline\;"><a href="http://www.kenyon.edu/directories/offices-services/brown-family-environmental-center/community/photography-contest/" style="box-sizing: border-box\; transition: background-color 0.1s linear 0s\, border-color 0.1s linear 0s\, color 0.1s linear 0s\, opacity 0.1s linear 0s\; background-color: transparent\; text-decoration-line: none\; border: 0px\; font-style: inherit\; font-variant: inherit\; font-weight: inherit\; font-stretch: inherit\; line-height: inherit\; font-family: inherit\; margin: 0px\; padding: 0px\; vertical-align: baseline\; border-radius: 0px !important\;"><span style="color:#A52A2A\;">Knox County Nature Photography Contest</span></a></u></em>&nbsp\;exhibition.</span></p>\n
LOCATION:Brown Family Enivronmental Center 9781 Laymon Rd. Gambier\, OH 43022
UID:e.2893.3792
SEQUENCE:3
DTSTAMP:20260422T011101Z
URL:http://knoxchamber.smartcms.site/events/details/bfec-fall-harvest-festival-10-20-2018-3792
END:VEVENT

END:VCALENDAR
