BEGIN:VCALENDAR
VERSION:2.0
PRODID:-//ChamberMaster//Event Calendar 2.0//EN
METHOD:PUBLISH
X-PUBLISHED-TTL:P3D
REFRESH-INTERVAL:P3D
CALSCALE:GREGORIAN
BEGIN:VEVENT
DTSTART:20171110T230000Z
DTEND:20171111T000000Z
X-MICROSOFT-CDO-ALLDAYEVENT:FALSE
SUMMARY:Best Hometown recognition - celebration
DESCRIPTION:Public invited to celebrate "Best Hometown" recognition\n\nMOUNT VERNON\, Ohio   Ohio Magazine has named the City of Mount Vernon as one of five "Best Hometowns\," one for each region of the state. The public is invited to celebrate this official announcement on Friday\, Nov. 10\, at 6 p.m. at the Knox County Memorial Building Theater. \n\nRepresentatives of Ohio Magazine as well as community leaders will be on hand for the event. An official proclamation will be made and a new video about our community\, crafted by Mount Vernon native Danny Woods\, will debut. \n\nThe November issue of the magazine will feature each of the towns with regional covers and content. The other towns include Bowling Green\, Marietta\, Milford and Wooster. It is worth noting that Wooster\, Marietta and Mount Vernon are also Ohio Main Street communities with the Heritage Ohio organization. \n\nTo determine the honorees\, Ohio Magazine solicited nominations and conducted site visits across the state. The editors evaluated the nominees in six categories: Community Spirit\, Education\, Entertainment\, Health/Safety\, Business Environment and Culture/Heritage to help finalize their selections. \n\nEach of the hometowns will be featured in the November\, January and July issues\, showing readers unique places to visit and ways to enjoy each location. The November issue will be on newsstands by Nov. 3.
X-ALT-DESC;FMTTYPE=text/html:<strong><span style="font-family:verdana\,sans-serif\;"><span style="font-size:10.0pt\;">Public invited to celebrate &ldquo\;Best Hometown&rdquo\; recognition</span></span></strong><br />\n<span style="font-family:verdana\,sans-serif\;"><span style="font-size:10.0pt\;">MOUNT VERNON\, Ohio &ndash\; <em>Ohio Magazine</em> has named the City of Mount Vernon as one of five &ldquo\;Best Hometowns\,&rdquo\; one for each region of the state. The public is invited to celebrate this official announcement on Friday\, Nov. 10\, at 6 p.m. at the Knox County Memorial Building Theater. </span></span><br />\n<span style="font-family:verdana\,sans-serif\;"><span style="font-size:10.0pt\;">Representatives of <em>Ohio Magazine</em> as well as community leaders will be on hand for the event. An official proclamation will be made and a new video about our community\, crafted by Mount Vernon native Danny Woods\, will debut. </span></span><br />\n<span style="font-family:verdana\,sans-serif\;"><span style="font-size:10.0pt\;">The November issue of the magazine will feature each of the towns with regional covers and content. The other towns include Bowling Green\, Marietta\, Milford and Wooster. It is worth noting that Wooster\, Marietta and Mount Vernon are also Ohio Main Street communities with the Heritage Ohio organization. </span></span><br />\n<span style="font-family:verdana\,sans-serif\;"><span style="font-size:10.0pt\;">To determine the honorees\, <em>Ohio Magazine</em> solicited nominations and conducted site visits across the state. The editors evaluated the nominees in six categories: Community Spirit\, Education\, Entertainment\, Health/Safety\, Business Environment and Culture/Heritage to help finalize their selections. </span></span><br />\n<span style="font-family:verdana\,sans-serif\;"><span style="font-size:10.0pt\;">Each of the hometowns will be featured in the November\, January and July issues\, showing readers unique places to visit and ways to enjoy each location. The November issue will be on newsstands by Nov. 3.</span></span>
LOCATION:
UID:e.2893.2516
SEQUENCE:3
DTSTAMP:20260422T225723Z
URL:http://knoxchamber.smartcms.site/events/details/best-hometown-recognition-celebration-2516
END:VEVENT

END:VCALENDAR
