BEGIN:VCALENDAR
VERSION:2.0
PRODID:-//ChamberMaster//Event Calendar 2.0//EN
METHOD:PUBLISH
X-PUBLISHED-TTL:P3D
REFRESH-INTERVAL:P3D
CALSCALE:GREGORIAN
BEGIN:VEVENT
DTSTART:20190803T230000Z
DTEND:20190804T020000Z
X-MICROSOFT-CDO-ALLDAYEVENT:FALSE
SUMMARY:Benefit Concert Featuring Kim Weitkamp
DESCRIPTION:The Woodward Opera House presents Kim Weitkamp! Humorist\, Singer Songwriter and Storyteller\, Kim Weitkamp is sure to put on a wonderful show!  Tickets are available at www.thewoodward.org now and will go fast\, so make sure to get yours today!  100% of all ticket sales will be donated to the Ohio Eastern Star Home Dog Park Project.
X-ALT-DESC;FMTTYPE=text/html:The Woodward Opera House presents Kim Weitkamp! Humorist\, Singer Songwriter and Storyteller\, Kim Weitkamp is sure to put on a wonderful show!&nbsp\; Tickets are available at <a href="http://www.thewoodward.org">www.thewoodward.org</a>&nbsp\;now and will go fast\, so make sure to get yours today!&nbsp\; 100% of all ticket sales will be donated to the Ohio Eastern Star Home Dog Park Project.&nbsp\;
LOCATION:The Woodward Opera House\, 107 South Main Street\, Mount Vernon
UID:e.2893.4413
SEQUENCE:3
DTSTAMP:20260421T070301Z
URL:http://knoxchamber.smartcms.site/events/details/benefit-concert-featuring-kim-weitkamp-4413
END:VEVENT

END:VCALENDAR
