BEGIN:VCALENDAR
VERSION:2.0
PRODID:-//ChamberMaster//Event Calendar 2.0//EN
METHOD:PUBLISH
X-PUBLISHED-TTL:P3D
REFRESH-INTERVAL:P3D
CALSCALE:GREGORIAN
BEGIN:VEVENT
DTSTART:20181013T130000Z
DTEND:20181013T193000Z
X-MICROSOFT-CDO-ALLDAYEVENT:FALSE
SUMMARY:Benefit Car Show
DESCRIPTION:Stop by for a fun day at the Car Show put on by Ol' School Rod and Wheels car club to benefit Hospice of Knox County. Great food provided by Grindhouse Barbecue. Registration at 9:00 am with awards at 3:00 pm Contact Clarence Griffith at 740-501-3487 for more information.
X-ALT-DESC;FMTTYPE=text/html:Stop by for a fun day at the Car Show put on by Ol&#39\; School Rod and Wheels car club to benefit <span style="color:#A52A2A\;"><strong><em>Hospice of Knox County</em></strong></span>. Great food provided by Grindhouse Barbecue. Registration at 9:00 am with awards at 3:00 pm Contact Clarence Griffith at 740-501-3487 for more information.
LOCATION:Hospice of Knox County 17700 Coshocton Rd.
UID:e.2893.3793
SEQUENCE:3
DTSTAMP:20260422T010742Z
URL:http://knoxchamber.smartcms.site/events/details/benefit-car-show-3793
END:VEVENT

END:VCALENDAR
