BEGIN:VCALENDAR
VERSION:2.0
PRODID:-//ChamberMaster//Event Calendar 2.0//EN
METHOD:PUBLISH
X-PUBLISHED-TTL:P3D
REFRESH-INTERVAL:P3D
CALSCALE:GREGORIAN
BEGIN:VEVENT
DTSTART:20171017T220000Z
DTEND:20171018T000000Z
X-MICROSOFT-CDO-ALLDAYEVENT:FALSE
SUMMARY:Being Mortal - Movie Screening and Discussion
DESCRIPTION:Hosted by Hospice of Knox County\, join us for a free screening and discussion of the PBS FRONTLINE film Being Mortal. Based on the best-selling book by Atul Gawande\, MD\, this documentary explores the hopes of patients and families facing terminal illness and their relationships with the physicians who treat them. See the film and be a part of a national conversation that brings medical professionals and community members together around the shared responsibility of discussing what matters most to patients and families facing difficult treatment decisions and how to have these conversations ahead of a medical crisis.
X-ALT-DESC;FMTTYPE=text/html:Hosted by Hospice of Knox County\, join us for a free screening and discussion of the PBS FRONTLINE film Being Mortal. Based on the best-selling book by Atul Gawande\, MD\, this documentary explores the hopes of patients and families facing terminal illness and their relationships with the physicians who treat them. See the film and be a part of a national conversation that brings medical professionals and community members together around the shared responsibility of discussing what matters most to patients and families facing difficult treatment decisions and how to have these conversations ahead of a medical crisis.
LOCATION:Foster Hall - Mount Vernon Nazarene University
UID:e.2893.1495
SEQUENCE:3
DTSTAMP:20260422T225930Z
URL:http://knoxchamber.smartcms.site/events/details/being-mortal-movie-screening-and-discussion-1495
END:VEVENT

END:VCALENDAR
