BEGIN:VCALENDAR
VERSION:2.0
PRODID:-//ChamberMaster//Event Calendar 2.0//EN
METHOD:PUBLISH
X-PUBLISHED-TTL:P3D
REFRESH-INTERVAL:P3D
CALSCALE:GREGORIAN
BEGIN:VEVENT
DTSTART:20190424T220000Z
DTEND:20190425T000000Z
X-MICROSOFT-CDO-ALLDAYEVENT:FALSE
SUMMARY:Be a Parent\, Not a Friend
DESCRIPTION:Join Knox Substance Abuse Action Team for the premier of "Be a Parent\, Not a Friend" a vidoe production of the Teen Advisory Council(TAC).  Members of TAC identified alcohol as the problem of practice among their peers.  With this knowledge\, they created characters\, wrote a script\, and produced a PSA for parents.
X-ALT-DESC;FMTTYPE=text/html:Join Knox Substance Abuse Action Team for the premier of &quot\;Be a Parent\, Not a Friend&quot\; a vidoe production of the Teen Advisory Council(TAC).&nbsp\; Members of TAC identified alcohol as the problem of practice among their peers.&nbsp\; With this knowledge\, they created characters\, wrote a script\, and produced a PSA for parents.&nbsp\;
LOCATION:Woodward Opera House\, 107 South Main Street\, Mount Vernon
UID:e.2893.4287
SEQUENCE:3
DTSTAMP:20260421T151913Z
URL:http://knoxchamber.smartcms.site/events/details/be-a-parent-not-a-friend-4287
END:VEVENT

END:VCALENDAR
