BEGIN:VCALENDAR
VERSION:2.0
PRODID:-//ChamberMaster//Event Calendar 2.0//EN
METHOD:PUBLISH
X-PUBLISHED-TTL:P3D
REFRESH-INTERVAL:P3D
CALSCALE:GREGORIAN
BEGIN:VEVENT
DTSTART:20200208T180000Z
DTEND:20200208T220000Z
X-MICROSOFT-CDO-ALLDAYEVENT:FALSE
SUMMARY:Bald Eagles of Knox County\, Part 2
DESCRIPTION:Meet at the BFEC Resource Center. We will take a driving tour of several eagles' nests in and near Knox County. We will meet at the Resource Center just long enough to meet our leader\, Jon Minard. We'll grab maps and then we will carpool/caravan to as many nest sites as possible before it gets dark. Bring your binoculars and/or spotting scopes. Free.
X-ALT-DESC;FMTTYPE=text/html:Meet at the BFEC Resource Center. We will take a driving tour of several eagles&rsquo\; nests in and near Knox County. We will meet at the Resource Center just long enough to meet our leader\, Jon Minard. We&rsquo\;ll grab maps and then we will carpool/caravan to as many nest sites as possible before it gets dark. Bring your binoculars and/or spotting scopes. Free.
LOCATION:BFEC
UID:e.2893.4693
SEQUENCE:3
DTSTAMP:20260420T212714Z
URL:http://knoxchamber.smartcms.site/events/details/bald-eagles-of-knox-county-part-2-4693
END:VEVENT

END:VCALENDAR
