BEGIN:VCALENDAR
VERSION:2.0
PRODID:-//ChamberMaster//Event Calendar 2.0//EN
METHOD:PUBLISH
X-PUBLISHED-TTL:P3D
REFRESH-INTERVAL:P3D
CALSCALE:GREGORIAN
BEGIN:VEVENT
DTSTART:20200206T233000Z
DTEND:20200207T003000Z
X-MICROSOFT-CDO-ALLDAYEVENT:FALSE
SUMMARY:Bald Eagles of Knox County\, Part 1
DESCRIPTION:Meet at the BFEC Resource Center. Knox County's Bald Eagle population is growing! Learn about mating rituals\, rearing behaviors\, juvenile molting stages\, and so much more during this indoor presentation. Free.
X-ALT-DESC;FMTTYPE=text/html:Meet at the BFEC Resource Center. Knox County&rsquo\;s Bald Eagle population is growing! Learn about mating rituals\, rearing behaviors\, juvenile molting stages\, and so much more during this indoor presentation. Free.
LOCATION:BFEC
UID:e.2893.4692
SEQUENCE:3
DTSTAMP:20260420T212714Z
URL:http://knoxchamber.smartcms.site/events/details/bald-eagles-of-knox-county-part-1-4692
END:VEVENT

END:VCALENDAR
