BEGIN:VCALENDAR
VERSION:2.0
PRODID:-//ChamberMaster//Event Calendar 2.0//EN
METHOD:PUBLISH
X-PUBLISHED-TTL:P3D
REFRESH-INTERVAL:P3D
CALSCALE:GREGORIAN
BEGIN:VEVENT
DTSTART:20180203T190000Z
DTEND:20180203T210000Z
X-MICROSOFT-CDO-ALLDAYEVENT:FALSE
SUMMARY:Bald Eagles of Knox County
DESCRIPTION:Meet at the BFEC Resource Center. Knox County's Bald Eagle population is growing! Learn about mating rituals\, rearing behaviors\, juvenile molting stages\, and so much more during this indoor presentation. After the presentation and discussion\, we will carpool to several nesting sites on the east side of Knox County in hopes of catching a glimpse of several mating pairs.
X-ALT-DESC;FMTTYPE=text/html:Meet at the BFEC Resource Center. Knox County&rsquo\;s Bald Eagle population is growing! Learn about mating rituals\, rearing behaviors\, juvenile molting stages\, and so much more during this indoor presentation. After the presentation and discussion\, we will carpool to several nesting sites on the east side of Knox County in hopes of catching a glimpse of several mating pairs.
LOCATION:Brown Family Environmental Center
UID:e.2893.2532
SEQUENCE:3
DTSTAMP:20260422T142113Z
URL:http://knoxchamber.smartcms.site/events/details/bald-eagles-of-knox-county-2532
END:VEVENT

END:VCALENDAR
