BEGIN:VCALENDAR
VERSION:2.0
PRODID:-//ChamberMaster//Event Calendar 2.0//EN
METHOD:PUBLISH
X-PUBLISHED-TTL:P3D
REFRESH-INTERVAL:P3D
CALSCALE:GREGORIAN
BEGIN:VEVENT
DTSTART:20180313T210000Z
DTEND:20180313T220000Z
X-MICROSOFT-CDO-ALLDAYEVENT:FALSE
SUMMARY:BAH - The Mount Vernon Grand Hotel
DESCRIPTION:Join us for a Business After Hours at the Mount Vernon Grand Hotel on Tuesday\, March 13th from 5:00pm to 6:00pm.
X-ALT-DESC;FMTTYPE=text/html:Join us for a Business After Hours at the Mount Vernon Grand Hotel on Tuesday\, March 13th from 5:00pm to 6:00pm.&nbsp\;&nbsp\;
LOCATION:Mount Vernon Grand Hotel 12 Public Square\, Mount Vernon
UID:e.2893.2590
SEQUENCE:3
DTSTAMP:20260422T142204Z
URL:http://knoxchamber.smartcms.site/events/details/bah-the-mount-vernon-grand-hotel-2590
END:VEVENT

END:VCALENDAR
