BEGIN:VCALENDAR
VERSION:2.0
PRODID:-//ChamberMaster//Event Calendar 2.0//EN
METHOD:PUBLISH
X-PUBLISHED-TTL:P3D
REFRESH-INTERVAL:P3D
CALSCALE:GREGORIAN
BEGIN:VEVENT
DTSTART:20180515T200000Z
DTEND:20180515T220000Z
X-MICROSOFT-CDO-ALLDAYEVENT:FALSE
SUMMARY:BAH - Licking/Knox Goodwill in Fredericktown
DESCRIPTION:All are welcome to attend this free event celebration.  The Fredericktown store of Licking/Knox Goodwill opened a year ago.  Come for food\, fun\, door prizes\, and live remote radio broadcast.\n\n\n\nThey are located at 16482 Village Parkway (off SR95 and next to expressway).
X-ALT-DESC;FMTTYPE=text/html:All are welcome to attend this free event celebration.&nbsp\; The Fredericktown&nbsp\;store of Licking/Knox Goodwill opened a year ago.&nbsp\; Come for food\, fun\, door prizes\, and live remote radio broadcast.<br />\n<br />\nThey are located at 16482 Village Parkway (off SR95&nbsp\;and next to expressway).
LOCATION:
UID:e.2893.3627
SEQUENCE:3
DTSTAMP:20260422T092627Z
URL:http://knoxchamber.smartcms.site/events/details/bah-licking-knox-goodwill-in-fredericktown-3627
END:VEVENT

END:VCALENDAR
