BEGIN:VCALENDAR
VERSION:2.0
PRODID:-//ChamberMaster//Event Calendar 2.0//EN
METHOD:PUBLISH
X-PUBLISHED-TTL:P3D
REFRESH-INTERVAL:P3D
CALSCALE:GREGORIAN
BEGIN:VEVENT
DTSTART:20190519T000000Z
DTEND:20190519T040000Z
X-MICROSOFT-CDO-ALLDAYEVENT:FALSE
SUMMARY:Back to Prom Night
DESCRIPTION:Go back to prom at Moss Rose!  They invite you to join them for a great time complete with backgrounds\, Back to Prom photos and cocktails!
X-ALT-DESC;FMTTYPE=text/html:Go back to prom at Moss Rose!&nbsp\; They invite you to join them for a great time complete with backgrounds\, Back to Prom photos and cocktails!&nbsp\;
LOCATION:Moss Rose\, 109 West Ohio Ave\, Mount Vernon
UID:e.2893.4290
SEQUENCE:3
DTSTAMP:20260421T132559Z
URL:http://knoxchamber.smartcms.site/events/details/back-to-prom-night-4290
END:VEVENT

END:VCALENDAR
