BEGIN:VCALENDAR
VERSION:2.0
PRODID:-//ChamberMaster//Event Calendar 2.0//EN
METHOD:PUBLISH
X-PUBLISHED-TTL:P3D
REFRESH-INTERVAL:P3D
CALSCALE:GREGORIAN
BEGIN:VEVENT
DTSTART:20210806T220000Z
DTEND:20210807T010000Z
X-MICROSOFT-CDO-ALLDAYEVENT:FALSE
SUMMARY:August First Friday: Dog Days of Summer Presented by Griffin Insurance
DESCRIPTION:Great food\, live music and family fun for all at the 2021 downtown First Friday season. Main Street Mount Vernon is thrilled to bring fun\, free\, family entertainment for the residents of Mount Vernon and beyond.\n\nThe season continues with the ALWAYS POPULAR - DOG DAYS OF SUMMER!\n\nMusic from The Mount Vernon Community Band\, a performance by TAVACI\, and ending the night with local artist\, Jamee Gresley on the Main Stage located on Gambier Street along the South Main Plaza\, with the secondary stage featuring Fat Tuesday sponsored by Dominos Pizza located at the West High and Public Square Intersection!\n\nWNZR is excited to bring back the Annual Dog Costume Parade! Beginning at the South Main Plaza Dog Fountain at 7:15pm\, make sure to sign up at the WNZR booth between 6:30 and 7:10pm!\n\nThe Knox Foodies Food Truck Trail provided by Knoxpages.com\, Activity Zone presented by Knox County Board of Developmental Disabilities featuring BAM!\, family friendly activities!\n\nSponsored by A+ Auto Brokers\, the Cruise-In returns to Public Square. Main Street is asking for a $10 donation from participating cars to continue to keep First Fridays as a FREE community event. Each donation will receive a free dash plaque commemorating the Cruise-In\, and proceeds will benefit the initiatives of Main Street Mount Vernon to continue to better our downtown.\n\nWith more vendors than ever\, there will be something for everyone\, and for the first time ever\, vendors at First Fridays will be able to sell their products!\n\nMedia Sponsors include 90.9 WNZR\, 13WMVO\, and Super Q 93.7!\n\nDon't forget to stop in to the wonderful retail shops\, restaurants and other attractions in Downtown Mount Vernon and support our local merchants!\n\nTraffic will be closed one block north of Public Square\, around the Square and on South Main Street down to the Ohio Avenue starting at 4:30 p.m on Friday\, August 6. If you have questions\, please contact Downtown Manager Anthony McNeal at 740-393-1481.\n\nIf you wish to set up a booth for future months\, please fill out the application linked below.\n\nhttps://forms.gle/kLByAZLEWXMedpJL6
X-ALT-DESC;FMTTYPE=text/html:<div class="kvgmc6g5 cxmmr5t8 oygrvhab hcukyx3x c1et5uql" style="overflow-wrap: break-word\; margin: 0px\; font-family: &quot\;Segoe UI Historic&quot\;\, &quot\;Segoe UI&quot\;\, Helvetica\, Arial\, sans-serif\; color: rgb(5\, 5\, 5)\; font-size: 15px\;">Great food\, live music and family fun for all at the 2021 downtown First Friday season. Main Street Mount Vernon is thrilled to bring fun\, free\, family entertainment for the residents of Mount Vernon and beyond.<br />\nThe season continues with the ALWAYS POPULAR - DOG DAYS OF SUMMER!</div>\n\n<div class="o9v6fnle cxmmr5t8 oygrvhab hcukyx3x c1et5uql" style="overflow-wrap: break-word\; margin: 0.5em 0px 0px\; font-family: &quot\;Segoe UI Historic&quot\;\, &quot\;Segoe UI&quot\;\, Helvetica\, Arial\, sans-serif\; color: rgb(5\, 5\, 5)\; font-size: 15px\;">Music from The Mount Vernon Community Band\, a performance by TAVACI\, and ending the night with local artist\, Jamee Gresley on the Main Stage located on Gambier Street along the South Main Plaza\, with the secondary stage featuring Fat Tuesday sponsored by Dominos Pizza located at the West High and Public Square Intersection!<br />\nWNZR is excited to bring back the Annual Dog Costume Parade! Beginning at the South Main Plaza Dog Fountain at 7:15pm\, make sure to sign up at the WNZR booth between 6:30 and 7:10pm!<br />\nThe Knox Foodies Food Truck Trail provided by&nbsp\;<a class="oajrlxb2 g5ia77u1 qu0x051f esr5mh6w e9989ue4 r7d6kgcz rq0escxv nhd2j8a9 nc684nl6 p7hjln8o kvgmc6g5 cxmmr5t8 oygrvhab hcukyx3x jb3vyjys rz4wbd8a qt6c0cv9 a8nywdso i1ao9s8h esuyzwwr f1sip0of lzcic4wl py34i1dx gpro0wi8" href="https://l.facebook.com/l.php?u=http%3A%2F%2FKnoxpages.com%2F%3Ffbclid%3DIwAR0AXjZ-M7BIfXU53p3SUjW5uK3kTeZfygOBktUO4vnUFm4THDdPQBBM_Sk&amp\;h=AT0SwQRnnPpoGsmEa_uQa0GoSQ5nR81GGLk7O_UK2Y6vkZ4VJkwazZhCefS8B4Cb54tvjvz9JReHaaLXdxlEn6sY2duO_8GDJ7CoZJdASaR-SDCguZe_dWzwG2iMBA0VZ9kG&amp\;__tn__=q&amp\;c[0]=AT2858xZ4-uCyiMwC3JbwL_bP3q6kS0NiiP_tHd1GtMTM23w2XEdBSMqJQivVhOa3eFrF6HWqsCZPiiBJlwwVPjgmzrH6srEeiMXUiO_5pDC8Y0yCV8Xno_7HbU6vNc3A80x5ktcaBb0jXfJoarovCYPYJezk8BXS088Nf13GLMfDAQ" rel="nofollow noopener" role="link" style="color: var(--blue-link)\; cursor: pointer\; text-decoration-line: none\; outline: none\; list-style: none\; border-width: 0px\; border-style: initial\; border-color: initial\; padding: 0px\; margin: 0px\; touch-action: manipulation\; background-color: transparent\; text-align: inherit\; display: inline\; -webkit-tap-highlight-color: transparent\; box-sizing: border-box\; font-family: inherit\;" tabindex="0" target="_blank">Knoxpages.com</a>\, Activity Zone presented by Knox County Board of Developmental Disabilities featuring BAM!\, family friendly activities!<br />\nSponsored by A+ Auto Brokers\, the Cruise-In returns to Public Square. Main Street is asking for a $10 donation from participating cars to continue to keep First Fridays as a FREE community event. Each donation will receive a free dash plaque commemorating the Cruise-In\, and proceeds will benefit the initiatives of Main Street Mount Vernon to continue to better our downtown.<br />\nWith more vendors than ever\, there will be something for everyone\, and for the first time ever\, vendors at First Fridays will be able to sell their products!<br />\nMedia Sponsors include 90.9 WNZR\, 13WMVO\, and Super Q 93.7!<br />\nDon&#39\;t forget to stop in to the wonderful retail shops\, restaurants and other attractions in Downtown Mount Vernon and support our local merchants!</div>\n\n<div class="o9v6fnle cxmmr5t8 oygrvhab hcukyx3x c1et5uql" style="overflow-wrap: break-word\; margin: 0.5em 0px 0px\; font-family: &quot\;Segoe UI Historic&quot\;\, &quot\;Segoe UI&quot\;\, Helvetica\, Arial\, sans-serif\; color: rgb(5\, 5\, 5)\; font-size: 15px\;">Traffic will be closed one block north of Public Square\, around the Square and on South Main Street down to the Ohio Avenue starting at 4:30 p.m on Friday\, August 6. If you have questions\, please contact Downtown Manager Anthony McNeal at 740-393-1481.<br />\nIf you wish to set up a booth for future months\, please fill out the application linked below.<br />\n<a class="oajrlxb2 g5ia77u1 qu0x051f esr5mh6w e9989ue4 r7d6kgcz rq0escxv nhd2j8a9 nc684nl6 p7hjln8o kvgmc6g5 cxmmr5t8 oygrvhab hcukyx3x jb3vyjys rz4wbd8a qt6c0cv9 a8nywdso i1ao9s8h esuyzwwr f1sip0of lzcic4wl py34i1dx gpro0wi8" href="https://forms.gle/kLByAZLEWXMedpJL6?fbclid=IwAR1_qgMNWNFMh7Q9abPSgEJhNFrMg0vCDiLtr0sFnQMN3ceaVTzXJyNEngQ" rel="nofollow noopener" role="link" style="color: var(--blue-link)\; cursor: pointer\; outline: none\; list-style: none\; border-width: 0px\; border-style: initial\; border-color: initial\; padding: 0px\; margin: 0px\; touch-action: manipulation\; background-color: transparent\; text-align: inherit\; display: inline\; -webkit-tap-highlight-color: transparent\; box-sizing: border-box\; font-family: inherit\;" tabindex="0" target="_blank">https://forms.gle/kLByAZLEWXMedpJL6</a></div>\n
LOCATION:Downtown Mount Vernon
UID:e.2893.4984
SEQUENCE:3
DTSTAMP:20260419T162540Z
URL:http://knoxchamber.smartcms.site/events/details/august-first-friday-dog-days-of-summer-presented-by-griffin-insurance-4984
END:VEVENT

END:VCALENDAR
