BEGIN:VCALENDAR
VERSION:2.0
PRODID:-//ChamberMaster//Event Calendar 2.0//EN
METHOD:PUBLISH
X-PUBLISHED-TTL:P3D
REFRESH-INTERVAL:P3D
CALSCALE:GREGORIAN
BEGIN:VEVENT
DTSTART;VALUE=DATE:20170422
DTEND;VALUE=DATE:20170423
TRANSP:TRANSPARENT
X-MICROSOFT-CDO-ALLDAYEVENT:TRUE
SUMMARY:Auditions Bye Bye Birdie
DESCRIPTION:Visit MTVarts.com for details on auditions for summer musical "Bye Bye Birdie" - parts for all ages. Advance registration required.
X-ALT-DESC;FMTTYPE=text/html:Visit MTVarts.com for details on auditions for summer musical "Bye Bye Birdie" - parts for all ages. Advance registration required.
LOCATION:warehouse14 14 East Ohio Avenue Mount Vernon OH 43050
UID:e.2893.1329
SEQUENCE:3
DTSTAMP:20260423T093435Z
URL:http://knoxchamber.smartcms.site/events/details/auditions-bye-bye-birdie-1329
END:VEVENT

END:VCALENDAR
