BEGIN:VCALENDAR
VERSION:2.0
PRODID:-//ChamberMaster//Event Calendar 2.0//EN
METHOD:PUBLISH
X-PUBLISHED-TTL:P3D
REFRESH-INTERVAL:P3D
CALSCALE:GREGORIAN
BEGIN:VEVENT
DTSTART:20170316T170000Z
DTEND:20170316T180000Z
X-MICROSOFT-CDO-ALLDAYEVENT:FALSE
SUMMARY:Ask The CPA 2017: Tax Advice for Small Businesses
DESCRIPTION:Click the link below for more information:\n\n\n\nhttp://columbusoh.score.org/event/ask-cpa-2017-tax-advice-small-businesses?utm_medium=email&utm_source=govdelivery
X-ALT-DESC;FMTTYPE=text/html:Click the link below for more information:<br />\n<br />\n<a href="http://columbusoh.score.org/event/ask-cpa-2017-tax-advice-small-businesses?utm_medium=email&amp\;utm_source=govdelivery">http://columbusoh.score.org/event/ask-cpa-2017-tax-advice-small-businesses?utm_medium=email&amp\;utm_source=govdelivery</a>
LOCATION:
UID:e.2893.1308
SEQUENCE:3
DTSTAMP:20260423T112714Z
URL:http://knoxchamber.smartcms.site/events/details/ask-the-cpa-2017-tax-advice-for-small-businesses-1308
END:VEVENT

END:VCALENDAR
